{"text_format":"1","workbook":"xlsx","n_sheets":21,"sheets":["Form","Form1","Sheet3","Print2","Print (3)","Print","Sheet2","Sheet1","1","2","3","4","5","6","7","8","9","10","11","12","คู่มือ"],"not_rendered":{"charts":0,"images":9,"macros":1,"external_links":0,"defined_names":40,"comments":3,"pivot_tables":0},"unopened":[],"bounds":{"document_bytes":16777216,"sheet_cells":100000,"rows_first":2000,"rows_last":500,"rows_between":2000,"halvings":0,"cell_chars":16384,"cell_head_chars":4096},"cells_cut":0,"cells_raw":0,"read":"whole","date_system":"1900"}

{"sheet":"Form","index":0,"n_rows":20,"n_cols":11,"rows_kept":20,"cut":false,"hidden":false,"merged":[[4,4,4,7],[4,8,4,9],[21,8,21,9],[19,8,19,9]]}
[null,null,null,null,null,null,null,null,null,null,{"$f":"Print!F6","v":"69002"}]
[null,null,null,null,null,null,null,null,null,null,{"$f":"Print!F5","v":"puttachart@yahoo.com"}]
[null,null,null,null,null,null,null,null,null,null,{"$f":"Print!C5","v":1}]
[null,null,null,null,null,null,null,null,null,null,{"$f":"No","v":2}]
[null,null,null,null,null,null,null,null,null,null,{"$f":"Print!F7","v":"นางสาวสมหญิง บุญรักษา"}]
[]
[]
[]
[]
[]
[]
[]
[]
[]
[]
[]
[]
[]
[]
[null,null,null,null,null,null,null,null,"รายรับสุทธิ"]

{"sheet":"Form1","index":1,"n_rows":0,"n_cols":0,"rows_kept":0,"cut":false,"hidden":true,"merged":[[4,4,4,7]]}

{"sheet":"Sheet3","index":2,"n_rows":0,"n_cols":0,"rows_kept":0,"cut":false,"hidden":true,"merged":[]}

{"sheet":"Print2","index":3,"n_rows":11,"n_cols":6,"rows_kept":11,"cut":false,"hidden":true,"merged":[]}
["2"]
["งวดที่",null,{"$f":"VLOOKUP(C4,TblMonthPeriod,2,0)&\"  \"&  VLOOKUP(C4,TblMonthPeriod,3,0)   &\"  \"&Print2!C5","v":"16-31  มกราคม  2567"},null,null,"( แบบจ่าย 2 งวด / เดือน)"]
[]
["ประจำงวดเดือน",null,{"$f":"A1+0","v":2},null,"วันที่จ่าย","15-05-2567"]
["ปี(เปลี่ยนเป็นปีปัจุบัน)",null,"2567"]
["จำนวนพนักงานทั้งหมด",null,{"$f":"VLOOKUP(C4,TblMonthData,3,0)","v":0},null,"แสดงตัวอย่างลำดับที่",1]
["เริ่มพิมพ์จากลำดับที่",null,1,null,"เลขประจำตัว",{"$f":"IFERROR(Sheet1!B38,\"No Data\")","v":"69002"}]
["สิ้นสุดการพิมพ์ลำดับที่",null,2,null,"ชื่อ",{"$f":"IFERROR(Sheet1!C38&Sheet1!D38&\" \"&Sheet1!E38,\"No Data\")","v":"นางสาวสมหญิง บุญรักษา"}]
[null,null,null,null,"ตำแหน่ง",{"$f":"IFERROR(Sheet1!G38,\"No Data\")","v":"บัญชี"}]
[null,null,null,null,"เงินเดือน",{"$f":"IFERROR(Sheet1!M38,\"No Data\")","v":18}]
[null,null,null,null,"รับสุทธิ",{"$f":"IFERROR(Sheet1!AT38,\"No Data\")","v":0}]

{"sheet":"Print (3)","index":4,"n_rows":10,"n_cols":6,"rows_kept":10,"cut":false,"hidden":true,"merged":[]}
["1"]
["เดือน",null,{"$f":"  VLOOKUP(C5,TblMonth12,2,0)   &\"  \"&'Print (3)'!C6","v":"มกราคม  2569"},null,null,"( แบบจ่าย 1 งวด / เดือน)"]
[]
["วันที่จ่ายเงินเดือน",null,244484,null,"แสดงตัวอย่างลำดับที่",1]
["ประจำงวดเดือน",null,{"$f":"A1+0","v":1},null,"Email",{"$f":"IFERROR(Sheet1!F38,\"No Data\")","v":"puttachart@yahoo.com"}]
["ปี(เปลี่ยนเป็นปีปัจุบัน)",null,"2569",null,"เลขประจำตัว",{"$f":"IFERROR(Sheet1!B38,\"No Data\")","v":"69002"}]
["จำนวนพนักงานทั้งหมด",null,{"$f":"VLOOKUP(C5,TblMonthData,3,0)","v":3},null,"ชื่อ",{"$f":"IFERROR(Sheet1!C38&Sheet1!D38&\" \"&Sheet1!E38,\"No Data\")","v":"นางสาวสมหญิง บุญรักษา"}]
["เริ่มพิมพ์จากลำดับที่",null,1,null,"ตำแหน่ง",{"$f":"IFERROR(Sheet1!G38,\"No Data\")","v":"บัญชี"}]
["สิ้นสุดการพิมพ์ลำดับที่",null,1,null,"เงินเดือน",{"$f":"IFERROR(Sheet1!N38,\"No Data\")","v":6426}]
[null,null,null,null,"รับสุทธิ",{"$f":"IFERROR(Sheet1!BA38,\"No Data\")","v":0}]

{"sheet":"Print","index":5,"n_rows":10,"n_cols":6,"rows_kept":10,"cut":false,"hidden":false,"merged":[]}
["1"]
["เดือน",null,{"$f":"  VLOOKUP(C5,TblMonth12,2,0)   &\"  \"&Print!C6","v":"มกราคม  2569"},null,null,"( แบบจ่าย 1 งวด / เดือน)"]
[]
["วันที่จ่ายเงินเดือน",null,244484,null,"แสดงตัวอย่างลำดับที่",2]
["ประจำงวดเดือน",null,{"$f":"A1+0","v":1},null,"Email",{"$f":"IFERROR(Sheet1!F38,\"No Data\")","v":"puttachart@yahoo.com"}]
["ปี(เปลี่ยนเป็นปีปัจุบัน)",null,"2569",null,"เลขประจำตัว",{"$f":"IFERROR(Sheet1!B38,\"No Data\")","v":"69002"}]
["จำนวนพนักงานทั้งหมด",null,{"$f":"VLOOKUP(C5,TblMonthData,3,0)","v":3},null,"ชื่อ",{"$f":"IFERROR(Sheet1!C38&Sheet1!D38&\" \"&Sheet1!E38,\"No Data\")","v":"นางสาวสมหญิง บุญรักษา"}]
["เริ่มพิมพ์จากลำดับที่",null,2,null,"ตำแหน่ง",{"$f":"IFERROR(Sheet1!G38,\"No Data\")","v":"บัญชี"}]
["สิ้นสุดการพิมพ์ลำดับที่",null,2,null,"เงินเดือน",{"$f":"IFERROR(Sheet1!N38,\"No Data\")","v":6426}]
[null,null,null,null,"รับสุทธิ",{"$f":"IFERROR(Sheet1!BA38,\"No Data\")","v":0}]

{"sheet":"Sheet2","index":6,"n_rows":70,"n_cols":71,"rows_kept":70,"cut":false,"hidden":true,"merged":[]}
[{"$f":"DuenTee","v":1},1,"มกราคม",{"$f":"IFERROR(COUNT('1'!#REF!),0)","v":0},{"$f":"IFERROR(VLOOKUP(EmpID,'1'!#REF!,32,0),0)","v":0},{"$f":"E1","v":0},{"$f":"IFERROR(VLOOKUP(EmpID,'1'!#REF!,34,0),0)","v":0},{"$f":"G1","v":0},{"$f":"IFERROR(VLOOKUP(EmpID,'1'!#REF!,33,0),0)","v":0},{"$f":"I1","v":0},{"$f":"IFERROR(VLOOKUP(EmpID,'1'!#REF!,35,0),0)","v":0},{"$f":"K1","v":0},{"$f":"IFERROR(VLOOKUP(EmpID,'1'!#REF!,52,0),0)","v":0},{"$f":"M1","v":0},{"$f":"IFERROR(VLOOKUP(EmpID,'1'!#REF!,53,0),0)","v":0},{"$f":"O1","v":0},{"$f":"IFERROR(VLOOKUP(EmpID,'1'!#REF!,54,0),0)","v":0},{"$f":"Q1","v":0},{"$f":"IFERROR(VLOOKUP(EmpID,'1'!#REF!,55,0),0)","v":0},{"$f":"S1","v":0}]
[{"$f":"No","v":2},2,"มกราคม",{"$f":"IFERROR(COUNT('2'!#REF!),0)","v":0},{"$f":"IFERROR(VLOOKUP(EmpID,'2'!#REF!,32,0),0)","v":0},{"$f":"SUM(E$1:$E2)","v":0},{"$f":"IFERROR(VLOOKUP(EmpID,'2'!#REF!,34,0),0)","v":0},{"$f":"IF(G2>0,SUM(G$1:$G2),0)","v":0},{"$f":"IFERROR(VLOOKUP(EmpID,'2'!#REF!,33,0),0)","v":0},{"$f":"IF(I2>0,SUM(I$1:$I2),0)","v":0},{"$f":"IFERROR(VLOOKUP(EmpID,'2'!#REF!,35,0),0)","v":0},{"$f":"IF(K2>0,SUM($K$1:K2),0)","v":0},{"$f":"IFERROR(VLOOKUP(EmpID,'2'!#REF!,52,0),0)","v":0},{"$f":"SUM(M$1:$M2)","v":0},{"$f":"IFERROR(VLOOKUP(EmpID,'2'!#REF!,53,0),0)","v":0},{"$f":"SUM(O$1:$O2)","v":0},{"$f":"IFERROR(VLOOKUP(EmpID,'2'!#REF!,54,0),0)","v":0},{"$f":"SUM(Q$1:$Q2)","v":0},{"$f":"IFERROR(VLOOKUP(EmpID,'2'!#REF!,55,0),0)","v":0},{"$f":"SUM(S$1:$S2)","v":0}]
[{"$f":"EmpID","v":"69002"},3,"กุมภาพันธ์",{"$f":"IFERROR(COUNT('3'!#REF!),0)","v":0},{"$f":"IFERROR(VLOOKUP(EmpID,'3'!#REF!,32,0),0)","v":0},{"$f":"SUM(E$1:$E3)","v":0},{"$f":"IFERROR(VLOOKUP(EmpID,'3'!#REF!,34,0),0)","v":0},{"$f":"IF(G3>0,SUM(G$1:$G3),0)","v":0},{"$f":"IFERROR(VLOOKUP(EmpID,'3'!#REF!,33,0),0)","v":0},{"$f":"IF(I3>0,SUM(I$1:$I3),0)","v":0},{"$f":"IFERROR(VLOOKUP(EmpID,'3'!#REF!,35,0),0)","v":0},{"$f":"IF(K3>0,SUM($K$1:K3),0)","v":0},{"$f":"IFERROR(VLOOKUP(EmpID,'3'!#REF!,52,0),0)","v":0},{"$f":"SUM(M$1:$M3)","v":0},{"$f":"IFERROR(VLOOKUP(EmpID,'3'!#REF!,53,0),0)","v":0},{"$f":"SUM(O$1:$O3)","v":0},{"$f":"IFERROR(VLOOKUP(EmpID,'3'!#REF!,54,0),0)","v":0},{"$f":"SUM(Q$1:$Q3)","v":0},{"$f":"IFERROR(VLOOKUP(EmpID,'3'!#REF!,55,0),0)","v":0},{"$f":"SUM(S$1:$S3)","v":0}]
[null,4,"กุมภาพันธ์",{"$f":"IFERROR(COUNT('4'!#REF!),0)","v":0},{"$f":"IFERROR(VLOOKUP(EmpID,'4'!#REF!,32,0),0)","v":0},{"$f":"SUM(E$1:$E4)","v":0},{"$f":"IFERROR(VLOOKUP(EmpID,'4'!#REF!,34,0),0)","v":0},{"$f":"IF(G4>0,SUM(G$1:$G4),0)","v":0},{"$f":"IFERROR(VLOOKUP(EmpID,'4'!#REF!,33,0),0)","v":0},{"$f":"IF(I4>0,SUM(I$1:$I4),0)","v":0},{"$f":"IFERROR(VLOOKUP(EmpID,'4'!#REF!,35,0),0)","v":0},{"$f":"IF(K4>0,SUM($K$1:K4),0)","v":0},{"$f":"IFERROR(VLOOKUP(EmpID,'4'!#REF!,52,0),0)","v":0},{"$f":"SUM(M$1:$M4)","v":0},{"$f":"IFERROR(VLOOKUP(EmpID,'4'!#REF!,53,0),0)","v":0},{"$f":"SUM(O$1:$O4)","v":0},{"$f":"IFERROR(VLOOKUP(EmpID,'4'!#REF!,54,0),0)","v":0},{"$f":"SUM(Q$1:$Q4)","v":0},{"$f":"IFERROR(VLOOKUP(EmpID,'4'!#REF!,55,0),0)","v":0},{"$f":"SUM(S$1:$S4)","v":0}]
[null,5,"มีนาคม",{"$f":"IFERROR(COUNT('5'!#REF!),0)","v":0},{"$f":"IFERROR(VLOOKUP(EmpID,'5'!#REF!,32,0),0)","v":0},{"$f":"SUM(E$1:$E5)","v":0},{"$f":"IFERROR(VLOOKUP(EmpID,'5'!#REF!,34,0),0)","v":0},{"$f":"IF(G5>0,SUM(G$1:$G5),0)","v":0},{"$f":"IFERROR(VLOOKUP(EmpID,'5'!#REF!,33,0),0)","v":0},{"$f":"IF(I5>0,SUM(I$1:$I5),0)","v":0},{"$f":"IFERROR(VLOOKUP(EmpID,'5'!#REF!,35,0),0)","v":0},{"$f":"IF(K5>0,SUM($K$1:K5),0)","v":0},{"$f":"IFERROR(VLOOKUP(EmpID,'5'!#REF!,52,0),0)","v":0},{"$f":"SUM(M$1:$M5)","v":0},{"$f":"IFERROR(VLOOKUP(EmpID,'5'!#REF!,53,0),0)","v":0},{"$f":"SUM(O$1:$O5)","v":0},{"$f":"IFERROR(VLOOKUP(EmpID,'5'!#REF!,54,0),0)","v":0},{"$f":"SUM(Q$1:$Q5)","v":0},{"$f":"IFERROR(VLOOKUP(EmpID,'5'!#REF!,55,0),0)","v":0},{"$f":"SUM(S$1:$S5)","v":0}]
[null,6,"มีนาคม",{"$f":"IFERROR(COUNT('6'!A:A),0)","v":0},{"$f":"IFERROR(VLOOKUP(EmpID,'6'!$B:$AS,32,0),0)","v":0},{"$f":"SUM(E$1:$E6)","v":0},{"$f":"IFERROR(VLOOKUP(EmpID,'6'!$B:$AI,34,0),0)","v":0},{"$f":"IF(G6>0,SUM(G$1:$G6),0)","v":0},{"$f":"IFERROR(VLOOKUP(EmpID,'6'!$B:$AH,33,0),0)","v":0},{"$f":"IF(I6>0,SUM(I$1:$I6),0)","v":0},{"$f":"IFERROR(VLOOKUP(EmpID,'6'!$B:$AJ,35,0),0)","v":0},{"$f":"IF(K6>0,SUM($K$1:K6),0)","v":0},{"$f":"IFERROR(VLOOKUP(EmpID,'6'!$B:$BZ,52,0),0)","v":0},{"$f":"SUM(M$1:$M6)","v":0},{"$f":"IFERROR(VLOOKUP(EmpID,'6'!$B:$BZ,53,0),0)","v":0},{"$f":"SUM(O$1:$O6)","v":0},{"$f":"IFERROR(VLOOKUP(EmpID,'6'!$B:$BZ,54,0),0)","v":0},{"$f":"SUM(Q$1:$Q6)","v":0},{"$f":"IFERROR(VLOOKUP(EmpID,'6'!$B:$BZ,55,0),0)","v":0},{"$f":"SUM(S$1:$S6)","v":0}]
[null,7,"เมษายน",{"$f":"IFERROR(COUNT('7'!#REF!),0)","v":0},{"$f":"IFERROR(VLOOKUP(EmpID,'7'!#REF!,32,0),0)","v":0},{"$f":"SUM(E$1:$E7)","v":0},{"$f":"IFERROR(VLOOKUP(EmpID,'7'!#REF!,34,0),0)","v":0},{"$f":"IF(G7>0,SUM(G$1:$G7),0)","v":0},{"$f":"IFERROR(VLOOKUP(EmpID,'7'!#REF!,33,0),0)","v":0},{"$f":"IF(I7>0,SUM(I$1:$I7),0)","v":0},{"$f":"IFERROR(VLOOKUP(EmpID,'7'!#REF!,35,0),0)","v":0},{"$f":"IF(K7>0,SUM($K$1:K7),0)","v":0},{"$f":"IFERROR(VLOOKUP(EmpID,'7'!#REF!,52,0),0)","v":0},{"$f":"SUM(M$1:$M7)","v":0},{"$f":"IFERROR(VLOOKUP(EmpID,'7'!#REF!,53,0),0)","v":0},{"$f":"SUM(O$1:$O7)","v":0},{"$f":"IFERROR(VLOOKUP(EmpID,'7'!#REF!,54,0),0)","v":0},{"$f":"SUM(Q$1:$Q7)","v":0},{"$f":"IFERROR(VLOOKUP(EmpID,'7'!#REF!,55,0),0)","v":0},{"$f":"SUM(S$1:$S7)","v":0}]
[null,8,"เมษายน",{"$f":"IFERROR(COUNT('8'!#REF!),0)","v":0},{"$f":"IFERROR(VLOOKUP(EmpID,'8'!#REF!,32,0),0)","v":0},{"$f":"SUM(E$1:$E8)","v":0},{"$f":"IFERROR(VLOOKUP(EmpID,'8'!#REF!,34,0),0)","v":0},{"$f":"IF(G8>0,SUM(G$1:$G8),0)","v":0},{"$f":"IFERROR(VLOOKUP(EmpID,'8'!#REF!,33,0),0)","v":0},{"$f":"IF(I8>0,SUM(I$1:$I8),0)","v":0},{"$f":"IFERROR(VLOOKUP(EmpID,'8'!#REF!,35,0),0)","v":0},{"$f":"IF(K8>0,SUM($K$1:K8),0)","v":0},{"$f":"IFERROR(VLOOKUP(EmpID,'8'!#REF!,52,0),0)","v":0},{"$f":"SUM(M$1:$M8)","v":0},{"$f":"IFERROR(VLOOKUP(EmpID,'8'!#REF!,53,0),0)","v":0},{"$f":"SUM(O$1:$O8)","v":0},{"$f":"IFERROR(VLOOKUP(EmpID,'8'!#REF!,54,0),0)","v":0},{"$f":"SUM(Q$1:$Q8)","v":0},{"$f":"IFERROR(VLOOKUP(EmpID,'8'!#REF!,55,0),0)","v":0},{"$f":"SUM(S$1:$S8)","v":0}]
[null,9,"พฤษภาคม",{"$f":"IFERROR(COUNT('9'!A:A),0)","v":0},{"$f":"IFERROR(VLOOKUP(EmpID,'9'!$B:$AS,32,0),0)","v":0},{"$f":"SUM(E$1:$E9)","v":0},{"$f":"IFERROR(VLOOKUP(EmpID,'9'!$B:$AI,34,0),0)","v":0},{"$f":"IF(G9>0,SUM(G$1:$G9),0)","v":0},{"$f":"IFERROR(VLOOKUP(EmpID,'9'!$B:$AH,33,0),0)","v":0},{"$f":"IF(I9>0,SUM(I$1:$I9),0)","v":0},{"$f":"IFERROR(VLOOKUP(EmpID,'9'!$B:$AJ,35,0),0)","v":0},{"$f":"IF(K9>0,SUM($K$1:K9),0)","v":0},{"$f":"IFERROR(VLOOKUP(EmpID,'9'!$B:$BZ,52,0),0)","v":0},{"$f":"SUM(M$1:$M9)","v":0},{"$f":"IFERROR(VLOOKUP(EmpID,'9'!$B:$BZ,53,0),0)","v":0},{"$f":"SUM(O$1:$O9)","v":0},{"$f":"IFERROR(VLOOKUP(EmpID,'9'!$B:$BZ,54,0),0)","v":0},{"$f":"SUM(Q$1:$Q9)","v":0},{"$f":"IFERROR(VLOOKUP(EmpID,'9'!$B:$BZ,55,0),0)","v":0},{"$f":"SUM(S$1:$S9)","v":0}]
[null,10,"พฤษภาคม",{"$f":"IFERROR(COUNT('10'!A:A),0)","v":0},{"$f":"IFERROR(VLOOKUP(EmpID,'10'!$B:$AS,32,0),0)","v":0},{"$f":"SUM(E$1:$E10)","v":0},{"$f":"IFERROR(VLOOKUP(EmpID,'10'!$B:$AI,34,0),0)","v":0},{"$f":"IF(G10>0,SUM(G$1:$G10),0)","v":0},{"$f":"IFERROR(VLOOKUP(EmpID,'10'!$B:$AH,33,0),0)","v":0},{"$f":"IF(I10>0,SUM(I$1:$I10),0)","v":0},{"$f":"IFERROR(VLOOKUP(EmpID,'10'!$B:$AJ,35,0),0)","v":0},{"$f":"IF(K10>0,SUM($K$1:K10),0)","v":0},{"$f":"IFERROR(VLOOKUP(EmpID,'10'!$B:$BZ,52,0),0)","v":0},{"$f":"SUM(M$1:$M10)","v":0},{"$f":"IFERROR(VLOOKUP(EmpID,'10'!$B:$BZ,53,0),0)","v":0},{"$f":"SUM(O$1:$O10)","v":0},{"$f":"IFERROR(VLOOKUP(EmpID,'10'!$B:$BZ,54,0),0)","v":0},{"$f":"SUM(Q$1:$Q10)","v":0},{"$f":"IFERROR(VLOOKUP(EmpID,'10'!$B:$BZ,55,0),0)","v":0},{"$f":"SUM(S$1:$S10)","v":0}]
[null,11,"มิถุนายน",{"$f":"IFERROR(COUNT('11'!#REF!),0)","v":0},{"$f":"IFERROR(VLOOKUP(EmpID,'11'!#REF!,32,0),0)","v":0},{"$f":"SUM(E$1:$E11)","v":0},{"$f":"IFERROR(VLOOKUP(EmpID,'11'!#REF!,34,0),0)","v":0},{"$f":"IF(G11>0,SUM(G$1:$G11),0)","v":0},{"$f":"IFERROR(VLOOKUP(EmpID,'11'!#REF!,33,0),0)","v":0},{"$f":"IF(I11>0,SUM(I$1:$I11),0)","v":0},{"$f":"IFERROR(VLOOKUP(EmpID,'11'!#REF!,35,0),0)","v":0},{"$f":"IF(K11>0,SUM($K$1:K11),0)","v":0},{"$f":"IFERROR(VLOOKUP(EmpID,'11'!#REF!,52,0),0)","v":0},{"$f":"SUM(M$1:$M11)","v":0},{"$f":"IFERROR(VLOOKUP(EmpID,'11'!#REF!,53,0),0)","v":0},{"$f":"SUM(O$1:$O11)","v":0},{"$f":"IFERROR(VLOOKUP(EmpID,'11'!#REF!,54,0),0)","v":0},{"$f":"SUM(Q$1:$Q11)","v":0},{"$f":"IFERROR(VLOOKUP(EmpID,'11'!#REF!,55,0),0)","v":0},{"$f":"SUM(S$1:$S11)","v":0}]
[null,12,"มิถุนายน",{"$f":"IFERROR(COUNT('12'!#REF!),0)","v":0},{"$f":"IFERROR(VLOOKUP(EmpID,'12'!#REF!,32,0),0)","v":0},{"$f":"SUM(E$1:$E12)","v":0},{"$f":"IFERROR(VLOOKUP(EmpID,'12'!#REF!,34,0),0)","v":0},{"$f":"IF(G12>0,SUM(G$1:$G12),0)","v":0},{"$f":"IFERROR(VLOOKUP(EmpID,'12'!#REF!,33,0),0)","v":0},{"$f":"IF(I12>0,SUM(I$1:$I12),0)","v":0},{"$f":"IFERROR(VLOOKUP(EmpID,'12'!#REF!,35,0),0)","v":0},{"$f":"IF(K12>0,SUM($K$1:K12),0)","v":0},{"$f":"IFERROR(VLOOKUP(EmpID,'12'!#REF!,52,0),0)","v":0},{"$f":"SUM(M$1:$M12)","v":0},{"$f":"IFERROR(VLOOKUP(EmpID,'12'!#REF!,53,0),0)","v":0},{"$f":"SUM(O$1:$O12)","v":0},{"$f":"IFERROR(VLOOKUP(EmpID,'12'!#REF!,54,0),0)","v":0},{"$f":"SUM(Q$1:$Q12)","v":0},{"$f":"IFERROR(VLOOKUP(EmpID,'12'!#REF!,55,0),0)","v":0},{"$f":"SUM(S$1:$S12)","v":0}]
[null,13,"กรกฎาคม",{"$f":"IFERROR(COUNT(#REF!),0)","v":0},{"$f":"IFERROR(VLOOKUP(EmpID,#REF!,32,0),0)","v":0},{"$f":"SUM(E$1:$E13)","v":0},{"$f":"IFERROR(VLOOKUP(EmpID,#REF!,34,0),0)","v":0},{"$f":"IF(G13>0,SUM(G$1:$G13),0)","v":0},{"$f":"IFERROR(VLOOKUP(EmpID,#REF!,33,0),0)","v":0},{"$f":"IF(I13>0,SUM(I$1:$I13),0)","v":0},{"$f":"IFERROR(VLOOKUP(EmpID,#REF!,35,0),0)","v":0},{"$f":"IF(K13>0,SUM($K$1:K13),0)","v":0},{"$f":"IFERROR(VLOOKUP(EmpID,#REF!,52,0),0)","v":0},{"$f":"SUM(M$1:$M13)","v":0},{"$f":"IFERROR(VLOOKUP(EmpID,#REF!,53,0),0)","v":0},{"$f":"SUM(O$1:$O13)","v":0},{"$f":"IFERROR(VLOOKUP(EmpID,#REF!,54,0),0)","v":0},{"$f":"SUM(Q$1:$Q13)","v":0},{"$f":"IFERROR(VLOOKUP(EmpID,#REF!,55,0),0)","v":0},{"$f":"SUM(S$1:$S13)","v":0}]
[null,14,"กรกฎาคม",{"$f":"IFERROR(COUNT(#REF!),0)","v":0},{"$f":"IFERROR(VLOOKUP(EmpID,#REF!,32,0),0)","v":0},{"$f":"SUM(E$1:$E14)","v":0},{"$f":"IFERROR(VLOOKUP(EmpID,#REF!,34,0),0)","v":0},{"$f":"IF(G14>0,SUM(G$1:$G14),0)","v":0},{"$f":"IFERROR(VLOOKUP(EmpID,#REF!,33,0),0)","v":0},{"$f":"IF(I14>0,SUM(I$1:$I14),0)","v":0},{"$f":"IFERROR(VLOOKUP(EmpID,#REF!,35,0),0)","v":0},{"$f":"IF(K14>0,SUM($K$1:K14),0)","v":0},{"$f":"IFERROR(VLOOKUP(EmpID,#REF!,52,0),0)","v":0},{"$f":"SUM(M$1:$M14)","v":0},{"$f":"IFERROR(VLOOKUP(EmpID,#REF!,53,0),0)","v":0},{"$f":"SUM(O$1:$O14)","v":0},{"$f":"IFERROR(VLOOKUP(EmpID,#REF!,54,0),0)","v":0},{"$f":"SUM(Q$1:$Q14)","v":0},{"$f":"IFERROR(VLOOKUP(EmpID,#REF!,55,0),0)","v":0},{"$f":"SUM(S$1:$S14)","v":0}]
[null,15,"สิงหาคม",{"$f":"IFERROR(COUNT(#REF!),0)","v":0},{"$f":"IFERROR(VLOOKUP(EmpID,#REF!,32,0),0)","v":0},{"$f":"SUM(E$1:$E15)","v":0},{"$f":"IFERROR(VLOOKUP(EmpID,#REF!,34,0),0)","v":0},{"$f":"IF(G15>0,SUM(G$1:$G15),0)","v":0},{"$f":"IFERROR(VLOOKUP(EmpID,#REF!,33,0),0)","v":0},{"$f":"IF(I15>0,SUM(I$1:$I15),0)","v":0},{"$f":"IFERROR(VLOOKUP(EmpID,#REF!,35,0),0)","v":0},{"$f":"IF(K15>0,SUM($K$1:K15),0)","v":0},{"$f":"IFERROR(VLOOKUP(EmpID,#REF!,52,0),0)","v":0},{"$f":"SUM(M$1:$M15)","v":0},{"$f":"IFERROR(VLOOKUP(EmpID,#REF!,53,0),0)","v":0},{"$f":"SUM(O$1:$O15)","v":0},{"$f":"IFERROR(VLOOKUP(EmpID,#REF!,54,0),0)","v":0},{"$f":"SUM(Q$1:$Q15)","v":0},{"$f":"IFERROR(VLOOKUP(EmpID,#REF!,55,0),0)","v":0},{"$f":"SUM(S$1:$S15)","v":0}]
[null,16,"สิงหาคม",{"$f":"IFERROR(COUNT(#REF!),0)","v":0},{"$f":"IFERROR(VLOOKUP(EmpID,#REF!,32,0),0)","v":0},{"$f":"SUM(E$1:$E16)","v":0},{"$f":"IFERROR(VLOOKUP(EmpID,#REF!,34,0),0)","v":0},{"$f":"IF(G16>0,SUM(G$1:$G16),0)","v":0},{"$f":"IFERROR(VLOOKUP(EmpID,#REF!,33,0),0)","v":0},{"$f":"IF(I16>0,SUM(I$1:$I16),0)","v":0},{"$f":"IFERROR(VLOOKUP(EmpID,#REF!,35,0),0)","v":0},{"$f":"IF(K16>0,SUM($K$1:K16),0)","v":0},{"$f":"IFERROR(VLOOKUP(EmpID,#REF!,52,0),0)","v":0},{"$f":"SUM(M$1:$M16)","v":0},{"$f":"IFERROR(VLOOKUP(EmpID,#REF!,53,0),0)","v":0},{"$f":"SUM(O$1:$O16)","v":0},{"$f":"IFERROR(VLOOKUP(EmpID,#REF!,54,0),0)","v":0},{"$f":"SUM(Q$1:$Q16)","v":0},{"$f":"IFERROR(VLOOKUP(EmpID,#REF!,55,0),0)","v":0},{"$f":"SUM(S$1:$S16)","v":0}]
[null,17,"กันยายน",{"$f":"IFERROR(COUNT(#REF!),0)","v":0},{"$f":"IFERROR(VLOOKUP(EmpID,#REF!,32,0),0)","v":0},{"$f":"SUM(E$1:$E17)","v":0},{"$f":"IFERROR(VLOOKUP(EmpID,#REF!,34,0),0)","v":0},{"$f":"IF(G17>0,SUM(G$1:$G17),0)","v":0},{"$f":"IFERROR(VLOOKUP(EmpID,#REF!,33,0),0)","v":0},{"$f":"IF(I17>0,SUM(I$1:$I17),0)","v":0},{"$f":"IFERROR(VLOOKUP(EmpID,#REF!,35,0),0)","v":0},{"$f":"IF(K17>0,SUM($K$1:K17),0)","v":0},{"$f":"IFERROR(VLOOKUP(EmpID,#REF!,52,0),0)","v":0},{"$f":"SUM(M$1:$M17)","v":0},{"$f":"IFERROR(VLOOKUP(EmpID,#REF!,53,0),0)","v":0},{"$f":"SUM(O$1:$O17)","v":0},{"$f":"IFERROR(VLOOKUP(EmpID,#REF!,54,0),0)","v":0},{"$f":"SUM(Q$1:$Q17)","v":0},{"$f":"IFERROR(VLOOKUP(EmpID,#REF!,55,0),0)","v":0},{"$f":"SUM(S$1:$S17)","v":0}]
[null,18,"กันยายน",{"$f":"IFERROR(COUNT(#REF!),0)","v":0},{"$f":"IFERROR(VLOOKUP(EmpID,#REF!,32,0),0)","v":0},{"$f":"SUM(E$1:$E18)","v":0},{"$f":"IFERROR(VLOOKUP(EmpID,#REF!,34,0),0)","v":0},{"$f":"IF(G18>0,SUM(G$1:$G18),0)","v":0},{"$f":"IFERROR(VLOOKUP(EmpID,#REF!,33,0),0)","v":0},{"$f":"IF(I18>0,SUM(I$1:$I18),0)","v":0},{"$f":"IFERROR(VLOOKUP(EmpID,#REF!,35,0),0)","v":0},{"$f":"IF(K18>0,SUM($K$1:K18),0)","v":0},{"$f":"IFERROR(VLOOKUP(EmpID,#REF!,52,0),0)","v":0},{"$f":"SUM(M$1:$M18)","v":0},{"$f":"IFERROR(VLOOKUP(EmpID,#REF!,53,0),0)","v":0},{"$f":"SUM(O$1:$O18)","v":0},{"$f":"IFERROR(VLOOKUP(EmpID,#REF!,54,0),0)","v":0},{"$f":"SUM(Q$1:$Q18)","v":0},{"$f":"IFERROR(VLOOKUP(EmpID,#REF!,55,0),0)","v":0},{"$f":"SUM(S$1:$S18)","v":0}]
[null,19,"ตุลาคม",{"$f":"IFERROR(COUNT(#REF!),0)","v":0},{"$f":"IFERROR(VLOOKUP(EmpID,#REF!,32,0),0)","v":0},{"$f":"SUM(E$1:$E19)","v":0},{"$f":"IFERROR(VLOOKUP(EmpID,#REF!,34,0),0)","v":0},{"$f":"IF(G19>0,SUM(G$1:$G19),0)","v":0},{"$f":"IFERROR(VLOOKUP(EmpID,#REF!,33,0),0)","v":0},{"$f":"IF(I19>0,SUM(I$1:$I19),0)","v":0},{"$f":"IFERROR(VLOOKUP(EmpID,#REF!,35,0),0)","v":0},{"$f":"IF(K19>0,SUM($K$1:K19),0)","v":0},{"$f":"IFERROR(VLOOKUP(EmpID,#REF!,52,0),0)","v":0},{"$f":"SUM(M$1:$M19)","v":0},{"$f":"IFERROR(VLOOKUP(EmpID,#REF!,53,0),0)","v":0},{"$f":"SUM(O$1:$O19)","v":0},{"$f":"IFERROR(VLOOKUP(EmpID,#REF!,54,0),0)","v":0},{"$f":"SUM(Q$1:$Q19)","v":0},{"$f":"IFERROR(VLOOKUP(EmpID,#REF!,55,0),0)","v":0},{"$f":"SUM(S$1:$S19)","v":0}]
[null,20,"ตุลาคม",{"$f":"IFERROR(COUNT(#REF!),0)","v":0},{"$f":"IFERROR(VLOOKUP(EmpID,#REF!,32,0),0)","v":0},{"$f":"SUM(E$1:$E20)","v":0},{"$f":"IFERROR(VLOOKUP(EmpID,#REF!,34,0),0)","v":0},{"$f":"IF(G20>0,SUM(G$1:$G20),0)","v":0},{"$f":"IFERROR(VLOOKUP(EmpID,#REF!,33,0),0)","v":0},{"$f":"IF(I20>0,SUM(I$1:$I20),0)","v":0},{"$f":"IFERROR(VLOOKUP(EmpID,#REF!,35,0),0)","v":0},{"$f":"IF(K20>0,SUM($K$1:K20),0)","v":0},{"$f":"IFERROR(VLOOKUP(EmpID,#REF!,52,0),0)","v":0},{"$f":"SUM(M$1:$M20)","v":0},{"$f":"IFERROR(VLOOKUP(EmpID,#REF!,53,0),0)","v":0},{"$f":"SUM(O$1:$O20)","v":0},{"$f":"IFERROR(VLOOKUP(EmpID,#REF!,54,0),0)","v":0},{"$f":"SUM(Q$1:$Q20)","v":0},{"$f":"IFERROR(VLOOKUP(EmpID,#REF!,55,0),0)","v":0},{"$f":"SUM(S$1:$S20)","v":0}]
[null,21,"พฤศจิกายน",{"$f":"IFERROR(COUNT(#REF!),0)","v":0},{"$f":"IFERROR(VLOOKUP(EmpID,#REF!,32,0),0)","v":0},{"$f":"SUM(E$1:$E21)","v":0},{"$f":"IFERROR(VLOOKUP(EmpID,#REF!,34,0),0)","v":0},{"$f":"IF(G21>0,SUM(G$1:$G21),0)","v":0},{"$f":"IFERROR(VLOOKUP(EmpID,#REF!,33,0),0)","v":0},{"$f":"IF(I21>0,SUM(I$1:$I21),0)","v":0},{"$f":"IFERROR(VLOOKUP(EmpID,#REF!,35,0),0)","v":0},{"$f":"IF(K21>0,SUM($K$1:K21),0)","v":0},{"$f":"IFERROR(VLOOKUP(EmpID,#REF!,52,0),0)","v":0},{"$f":"SUM(M$1:$M21)","v":0},{"$f":"IFERROR(VLOOKUP(EmpID,#REF!,53,0),0)","v":0},{"$f":"SUM(O$1:$O21)","v":0},{"$f":"IFERROR(VLOOKUP(EmpID,#REF!,54,0),0)","v":0},{"$f":"SUM(Q$1:$Q21)","v":0},{"$f":"IFERROR(VLOOKUP(EmpID,#REF!,55,0),0)","v":0},{"$f":"SUM(S$1:$S21)","v":0}]
[null,22,"พฤศจิกายน",{"$f":"IFERROR(COUNT(#REF!),0)","v":0},{"$f":"IFERROR(VLOOKUP(EmpID,#REF!,32,0),0)","v":0},{"$f":"SUM(E$1:$E22)","v":0},{"$f":"IFERROR(VLOOKUP(EmpID,#REF!,34,0),0)","v":0},{"$f":"IF(G22>0,SUM(G$1:$G22),0)","v":0},{"$f":"IFERROR(VLOOKUP(EmpID,#REF!,33,0),0)","v":0},{"$f":"IF(I22>0,SUM(I$1:$I22),0)","v":0},{"$f":"IFERROR(VLOOKUP(EmpID,#REF!,35,0),0)","v":0},{"$f":"IF(K22>0,SUM($K$1:K22),0)","v":0},{"$f":"IFERROR(VLOOKUP(EmpID,#REF!,52,0),0)","v":0},{"$f":"SUM(M$1:$M22)","v":0},{"$f":"IFERROR(VLOOKUP(EmpID,#REF!,53,0),0)","v":0},{"$f":"SUM(O$1:$O22)","v":0},{"$f":"IFERROR(VLOOKUP(EmpID,#REF!,54,0),0)","v":0},{"$f":"SUM(Q$1:$Q22)","v":0},{"$f":"IFERROR(VLOOKUP(EmpID,#REF!,55,0),0)","v":0},{"$f":"SUM(S$1:$S22)","v":0}]
[null,23,"ธันวาคม",{"$f":"IFERROR(COUNT(#REF!),0)","v":0},{"$f":"IFERROR(VLOOKUP(EmpID,#REF!,32,0),0)","v":0},{"$f":"SUM(E$1:$E23)","v":0},{"$f":"IFERROR(VLOOKUP(EmpID,#REF!,34,0),0)","v":0},{"$f":"IF(G23>0,SUM(G$1:$G23),0)","v":0},{"$f":"IFERROR(VLOOKUP(EmpID,#REF!,33,0),0)","v":0},{"$f":"IF(I23>0,SUM(I$1:$I23),0)","v":0},{"$f":"IFERROR(VLOOKUP(EmpID,#REF!,35,0),0)","v":0},{"$f":"IF(K23>0,SUM($K$1:K23),0)","v":0},{"$f":"IFERROR(VLOOKUP(EmpID,#REF!,52,0),0)","v":0},{"$f":"SUM(M$1:$M23)","v":0},{"$f":"IFERROR(VLOOKUP(EmpID,#REF!,53,0),0)","v":0},{"$f":"SUM(O$1:$O23)","v":0},{"$f":"IFERROR(VLOOKUP(EmpID,#REF!,54,0),0)","v":0},{"$f":"SUM(Q$1:$Q23)","v":0},{"$f":"IFERROR(VLOOKUP(EmpID,#REF!,55,0),0)","v":0},{"$f":"SUM(S$1:$S23)","v":0}]
[null,24,"ธันวาคม",{"$f":"IFERROR(COUNT(#REF!),0)","v":0},{"$f":"IFERROR(VLOOKUP(EmpID,#REF!,32,0),0)","v":0},{"$f":"SUM(E$1:$E24)","v":0},{"$f":"IFERROR(VLOOKUP(EmpID,#REF!,34,0),0)","v":0},{"$f":"IF(G24>0,SUM(G$1:$G24),0)","v":0},{"$f":"IFERROR(VLOOKUP(EmpID,#REF!,33,0),0)","v":0},{"$f":"IF(I24>0,SUM(I$1:$I24),0)","v":0},{"$f":"IFERROR(VLOOKUP(EmpID,#REF!,35,0),0)","v":0},{"$f":"IF(K24>0,SUM($K$1:K24),0)","v":0},{"$f":"IFERROR(VLOOKUP(EmpID,#REF!,52,0),0)","v":0},{"$f":"SUM(M$1:$M24)","v":0},{"$f":"IFERROR(VLOOKUP(EmpID,#REF!,53,0),0)","v":0},{"$f":"SUM(O$1:$O24)","v":0},{"$f":"IFERROR(VLOOKUP(EmpID,#REF!,54,0),0)","v":0},{"$f":"SUM(Q$1:$Q24)","v":0},{"$f":"IFERROR(VLOOKUP(EmpID,#REF!,55,0),0)","v":0},{"$f":"SUM(S$1:$S24)","v":0}]
[]
[null,null,null,null,{"$f":"IF(A1=1,F1,IF(A1=2,F2,IF(A1=3,F3,IF(A1=4,F4,IF(A1=5,F5,IF(A1=6,F6,IF(A1=7,F7,IF(A1=8,F8,IF(A1=9,F9,IF(A1=10,F10,IF(A1=11,F11,IF(A1=12,F12,IF(A1=13,F13,IF(A1=14,F14,IF(A1=15,F15,IF(A1=16,F16,IF(A1=17,F17,IF(A1=18,F18,IF(A1=19,F19,IF(A1=20,F20,IF(A1=21,F21,IF(A1=22,F22,IF(A1=23,F23,IF(A1=24,F24))))))))))))))))))))))))","v":0},null,{"$f":"IF(A1=1,H1,IF(A1=2,H2,IF(A1=3,H3,IF(A1=4,H4,IF(A1=5,H5,IF(A1=6,H6,IF(A1=7,H7,IF(A1=8,H8,IF(A1=9,H9,IF(A1=10,H10,IF(A1=11,H11,IF(A1=12,H12,IF(A1=13,H13,IF(A1=14,H14,IF(A1=15,H15,IF(A1=16,H16,IF(A1=17,H17,IF(A1=18,H18,IF(A1=19,H19,IF(A1=20,H20,IF(A1=21,H21,IF(A1=22,H22,IF(A1=23,H23,IF(A1=24,H24))))))))))))))))))))))))","v":0},null,{"$f":"IF(A1=1,J1,IF(A1=2,J2,IF(A1=3,J3,IF(A1=4,J4,IF(A1=5,J5,IF(A1=6,J6,IF(A1=7,J7,IF(A1=8,J8,IF(A1=9,J9,IF(A1=10,J10,IF(A1=11,J11,IF(A1=12,J12,IF(A1=13,J13,IF(A1=14,J14,IF(A1=15,J15,IF(A1=16,J16,IF(A1=17,J17,IF(A1=18,J18,IF(A1=19,J19,IF(A1=20,J20,IF(A1=21,J21,IF(A1=22,J22,IF(A1=23,J23,IF(A1=24,J24))))))))))))))))))))))))","v":0},null,{"$f":"IF(A1=1,L1,IF(A1=2,L2,IF(A1=3,L3,IF(A1=4,L4,IF(A1=5,L5,IF(A1=6,L6,IF(A1=7,L7,IF(A1=8,L8,IF(A1=9,L9,IF(A1=10,L10,IF(A1=11,L11,IF(A1=12,L12,IF(A1=13,L13,IF(A1=14,L14,IF(A1=15,L15,IF(A1=16,L16,IF(A1=17,L17,IF(A1=18,L18,IF(A1=19,L19,IF(A1=20,L20,IF(A1=21,L21,IF(A1=22,L22,IF(A1=23,L23,IF(A1=24,L24))))))))))))))))))))))))","v":0},null,{"$f":"IF(A1=1,N1,IF(A1=2,N2,IF(A1=3,N3,IF(A1=4,N4,IF(A1=5,N5,IF(A1=6,N6,IF(A1=7,N7,IF(A1=8,N8,IF(A1=9,N9,IF(A1=10,N10,IF(A1=11,N11,IF(A1=12,N12,IF(A1=13,N13,IF(A1=14,N14,IF(A1=15,N15,IF(A1=16,N16,IF(A1=17,N17,IF(A1=18,N18,IF(A1=19,N19,IF(A1=20,N20,IF(A1=21,N21,IF(A1=22,N22,IF(A1=23,N23,IF(A1=24,N24))))))))))))))))))))))))","v":0},null,{"$f":"IF(A1=1,P1,IF(A1=2,P2,IF(A1=3,P3,IF(A1=4,P4,IF(A1=5,P5,IF(A1=6,P6,IF(A1=7,P7,IF(A1=8,P8,IF(A1=9,P9,IF(A1=10,P10,IF(A1=11,P11,IF(A1=12,P12,IF(A1=13,P13,IF(A1=14,P14,IF(A1=15,P15,IF(A1=16,P16,IF(A1=17,P17,IF(A1=18,P18,IF(A1=19,P19,IF(A1=20,P20,IF(A1=21,P21,IF(A1=22,P22,IF(A1=23,P23,IF(A1=24,P24))))))))))))))))))))))))","v":0},null,{"$f":"IF(A1=1,R1,IF(A1=2,R2,IF(A1=3,R3,IF(A1=4,R4,IF(A1=5,R5,IF(A1=6,R6,IF(A1=7,R7,IF(A1=8,R8,IF(A1=9,R9,IF(A1=10,R10,IF(A1=11,R11,IF(A1=12,R12,IF(A1=13,R13,IF(A1=14,R14,IF(A1=15,R15,IF(A1=16,R16,IF(A1=17,R17,IF(A1=18,R18,IF(A1=19,R19,IF(A1=20,R20,IF(A1=21,R21,IF(A1=22,R22,IF(A1=23,R23,IF(A1=24,R24))))))))))))))))))))))))","v":0},null,{"$f":"IF(A1=1,T1,IF(A1=2,T2,IF(A1=3,T3,IF(A1=4,T4,IF(A1=5,T5,IF(A1=6,T6,IF(A1=7,T7,IF(A1=8,T8,IF(A1=9,T9,IF(A1=10,T10,IF(A1=11,T11,IF(A1=12,T12,IF(A1=13,T13,IF(A1=14,T14,IF(A1=15,T15,IF(A1=16,T16,IF(A1=17,T17,IF(A1=18,T18,IF(A1=19,T19,IF(A1=20,T20,IF(A1=21,T21,IF(A1=22,T22,IF(A1=23,T23,IF(A1=24,T24))))))))))))))))))))))))","v":0}]
[]
[]
[]
[]
[]
["Limit ให้","300","คน"]
[]
[]
[1,"2","3","4","5","6","7","8","9","10","11","12","13","14","15","16","17","18","19","20","21","22","23","24","25","26","27","28","29","30","31","32","33","34","35","36","37","38","39","40","41","42","43","44","45","46","47","48","49","50","51","52","53","54","55","56","57","58","59","60","61","62","63","64","65","66","67","68","69","70","71"]
["a1","b1","c1","d1","e1","f1","g1","h1","i1","j1","k1","l1","m1","n1","o1","p1","q1","r1","s1","t1","u1","v1","w1","x1","y1","z1","aa1","ab1","ac1","ad1","ae1","af1","ag1","ah1","ai1","aj1","ak1","al1","am1","an1","ao1","ap1","aq1","ar1","as1","at1","au1","av1","aw1","ax1","ay1","az1","ba1","bb1","bc1","bd1","be1","bf1","bg1","bh1","bi1","bj1","bk1","bl1","bm1","bn1","bo1","bp1","bq1","br1","bs1"]
[{"$f":"INDIRECT(\"'\"&DuenTee&\"'!\"&A36)","v":"ลำดับที่"},"รหัสพนักงาน","คำนำหน้า","ชื่อ",{"$f":"INDIRECT(\"'\"&DuenTee&\"'!\"&E36)","v":"นามสกุล"},"Email","ตำแหน่ง","ธนาคาร","เลขที่บัญชีธนาคาร","วันที่เข้างาน","LineUser ID","ค่าแรง","จำนวนวันทำงาน","เงินเดือน/ค่าแรง","OT 1 เท่า (ชม.)","จำนวน","OT 1.5 เท่า (ชม.)","จำนวน","OT 2.0 เท่า (ชม.)","จำนวน","OT 3.0 เท่า (ชม.)","จำนวน","รวม OT","Commission","ค่าเบี้ยขยัน","ค่าเบี้ยเลี้ยง","ค่าโทรศัพท์","ค่าเดินทาง/ค่าพาหนะ","เงินโบนัส","อื่นๆ","อื่นๆ","อื่นๆ",0,0,0,0,0,0,0,0,0,"รวมรายได้","ประกันสังคม","ภาษี","กองทุนสำรองเลี้ยงชีพ","หักกองทุน %","หัก  กยศ","หักลาป่วย","หักมาสาย","หักลากิจ","หักลาอื่นๆ","หักค่าใช้จ่ายอื่นๆ","เบิกเงินเดือนล่วงหน้า","ธรรมเนียม",0,0,0,0,"รวมรายการหัก(ไม่รวมภาษี)","รวมรายการหัก","เงินได้สุทธิ","ลากิจ(ชม)","ลาป่วย(วัน)","พักร้อน(วัน)",{"$f":"INDIRECT(\"'\"&DuenTee&\"'!\"&BM36)","v":"ขาดงาน"},"ลดหย่อนรวมสุทธิ","ลดหย่อนรวม","ค่าใช้จ่ายเหมา 50%","หักค่าลดหย่อนส่วนตัว","ประกันสังคม","ลดหย่อนพ่อแม่"]
[{"$f":"VLOOKUP(No,INDIRECT(\"'\"&DuenTee&\"'!\"&\"$A$2:$AE$301\"),A35,0)","v":2},{"$f":"VLOOKUP(No,INDIRECT(\"'\"&DuenTee&\"'!\"&\"$A$2:$AE$301\"),B35,0)","v":"69002"},{"$f":"IF(VLOOKUP(No,INDIRECT(\"'\"&DuenTee&\"'!\"&\"$A$2:$AE$301\"),C35,0)=\"\",\"\",VLOOKUP(No,INDIRECT(\"'\"&DuenTee&\"'!\"&\"$A$2:$AE$301\"),C35,0))","v":"นางสาว"},{"$f":"VLOOKUP(No,INDIRECT(\"'\"&DuenTee&\"'!\"&\"$A$2:$AE$301\"),D35,0)","v":"สมหญิง"},{"$f":"IF(VLOOKUP(No,INDIRECT(\"'\"&DuenTee&\"'!\"&\"$A$2:$AE$301\"),E35,0)=\"\",\"\",VLOOKUP(No,INDIRECT(\"'\"&DuenTee&\"'!\"&\"$A$2:$AE$301\"),E35,0))","v":"บุญรักษา"},{"$f":"VLOOKUP(No,INDIRECT(\"'\"&DuenTee&\"'!\"&\"$A$2:$AE$301\"),F35,0)","v":"puttachart@yahoo.com"},"บัญชี","ไทยพาณิชย์","765-0-41698-4",241726,0,357,18,{"$f":"VLOOKUP(No,INDIRECT(\"'\"&DuenTee&\"'!\"&\"$A$2:$AE$3101\"),N35,0)","v":6426},{"$f":"VLOOKUP(No,INDIRECT(\"'\"&DuenTee&\"'!\"&\"$A$2:$AE$301\"),O35,0)","v":0},0,48,3213,0,0,0,0,3213,1,357,0,0,{"$f":"VLOOKUP(No,INDIRECT(\"'\"&DuenTee&\"'!\"&\"$A$2:$bq$301\"),AB35,0)","v":0},0,0,0,0,0,0,0,0,0,0,0,0,0,9996,375,0,0,0,0,0,0,0,0,0,0,0,0,0,0,0,375,375,10335,0,0,0,0,0,0,0,60000,{"$error":"#REF!"},{"$error":"#REF!"}]
[null,null,null,null,null,null,null,null,null,null,null,null,null,null,null,null,null,null,null,null,null,{"$f":"P38+R38+T38+V38","v":3213}]
["OT1",1]
["OT1.5",1.5]
["OT2",2]
["OT3",3]
[]
[]
[]
[1,"1-15","มกราคม"]
[2,"16-31","มกราคม"]
[3,"1-15","กุมภาพันธ์"]
[4,"16-28,29","กุมภาพันธ์"]
[5,"1-15","มีนาคม"]
[6,"16-31","มีนาคม"]
[7,"1-15","เมษายน"]
[8,"16-30","เมษายน"]
[9,"1-15","พฤษภาคม"]
[10,"16-31","พฤษภาคม"]
[11,"1-15","มิถุนายน"]
[12,"16-30","มิถุนายน"]
[13,"1-15","กรกฎาคม"]
[14,"16-31","กรกฎาคม"]
[15,"1-15","สิงหาคม"]
[16,"16-31","สิงหาคม"]
[17,"1-15","กันยายน"]
[18,"16-30","กันยายน"]
[19,"1-15","ตุลาคม"]
[20,"16-31","ตุลาคม"]
[21,"1-15","พฤศจิกายน"]
[22,"16-30","พฤศจิกายน"]
[23,"1-15","ธันวาคม"]
[24,"16-31"," ธันวาคม "]

{"sheet":"Sheet1","index":7,"n_rows":70,"n_cols":88,"rows_kept":70,"cut":false,"hidden":true,"merged":[]}
[{"$f":"DuenTee","v":1},1,"มกราคม",{"$f":"IFERROR(COUNT('1'!A:A),0)","v":3},{"$f":"IFERROR(VLOOKUP(EmpID,'1'!$B:$BB,41,0),0)","v":9996},{"$f":"E1","v":9996},{"$f":"IFERROR(VLOOKUP(EmpID,'1'!$B:$BH,43,0),0)","v":0},{"$f":"G1","v":0},{"$f":"IFERROR(VLOOKUP(EmpID,'1'!$B:$BH,42,0),0)","v":375},{"$f":"I1","v":375},{"$f":"IFERROR(VLOOKUP(EmpID,'1'!$B:$BH,44,0),0)","v":0},{"$f":"K1","v":0},{"$f":"IFERROR(VLOOKUP(EmpID,'1'!$B:$CI,52,0),0)","v":0},{"$f":"M1","v":0},{"$f":"IFERROR(VLOOKUP(EmpID,'1'!$B:$CI,53,0),0)","v":0},{"$f":"O1","v":0},{"$f":"IFERROR(VLOOKUP(EmpID,'1'!$B:$CI,54,0),0)","v":0},{"$f":"Q1","v":0},{"$f":"IFERROR(VLOOKUP(EmpID,'1'!$B:$CI,55,0),0)","v":0},{"$f":"S1","v":0}]
[{"$f":"No","v":2},2,"มกราคม",{"$f":"IFERROR(COUNT('2'!A:A),0)","v":0},{"$f":"IFERROR(VLOOKUP(EmpID,'2'!$B:$AS,41,0),0)","v":0},{"$f":"SUM(E$1:$E2)","v":9996},{"$f":"IFERROR(VLOOKUP(EmpID,'2'!$B:$AZ,43,0),0)","v":0},{"$f":"IF(G2>0,SUM(G$1:$G2),0)","v":0},{"$f":"IFERROR(VLOOKUP(EmpID,'2'!$B:$AZ,42,0),0)","v":0},{"$f":"IF(I2>0,SUM(I$1:$I2),0)","v":0},{"$f":"IFERROR(VLOOKUP(EmpID,'2'!$B:$AZ,44,0),0)","v":0},{"$f":"IF(K2>0,SUM($K$1:K2),0)","v":0},{"$f":"IFERROR(VLOOKUP(EmpID,'2'!$B:$BZ,52,0),0)","v":0},{"$f":"SUM(M$1:$M2)","v":0},{"$f":"IFERROR(VLOOKUP(EmpID,'2'!$B:$BZ,53,0),0)","v":0},{"$f":"SUM(O$1:$O2)","v":0},{"$f":"IFERROR(VLOOKUP(EmpID,'2'!$B:$BZ,54,0),0)","v":0},{"$f":"SUM(Q$1:$Q2)","v":0},{"$f":"IFERROR(VLOOKUP(EmpID,'2'!$B:$BZ,55,0),0)","v":0},{"$f":"SUM(S$1:$S2)","v":0}]
[{"$f":"EmpID","v":"69002"},3,"กุมภาพันธ์",{"$f":"IFERROR(COUNT('3'!A:A),0)","v":0},{"$f":"IFERROR(VLOOKUP(EmpID,'3'!$B:$AS,41,0),0)","v":0},{"$f":"SUM(E$1:$E3)","v":9996},{"$f":"IFERROR(VLOOKUP(EmpID,'3'!$B:$AZ,43,0),0)","v":0},{"$f":"IF(G3>0,SUM(G$1:$G3),0)","v":0},{"$f":"IFERROR(VLOOKUP(EmpID,'3'!$B:$AZ,42,0),0)","v":0},{"$f":"IF(I3>0,SUM(I$1:$I3),0)","v":0},{"$f":"IFERROR(VLOOKUP(EmpID,'3'!$B:$AZ,44,0),0)","v":0},{"$f":"IF(K3>0,SUM($K$1:K3),0)","v":0},{"$f":"IFERROR(VLOOKUP(EmpID,'3'!$B:$BZ,52,0),0)","v":0},{"$f":"SUM(M$1:$M3)","v":0},{"$f":"IFERROR(VLOOKUP(EmpID,'3'!$B:$BZ,53,0),0)","v":0},{"$f":"SUM(O$1:$O3)","v":0},{"$f":"IFERROR(VLOOKUP(EmpID,'3'!$B:$BZ,54,0),0)","v":0},{"$f":"SUM(Q$1:$Q3)","v":0},{"$f":"IFERROR(VLOOKUP(EmpID,'3'!$B:$BZ,55,0),0)","v":0},{"$f":"SUM(S$1:$S3)","v":0}]
[null,4,"กุมภาพันธ์",{"$f":"IFERROR(COUNT('4'!A:A),0)","v":0},{"$f":"IFERROR(VLOOKUP(EmpID,'4'!$B:$AS,41,0),0)","v":0},{"$f":"SUM(E$1:$E4)","v":9996},{"$f":"IFERROR(VLOOKUP(EmpID,'4'!$B:$AZ,43,0),0)","v":0},{"$f":"IF(G4>0,SUM(G$1:$G4),0)","v":0},{"$f":"IFERROR(VLOOKUP(EmpID,'4'!$B:$AZ,42,0),0)","v":0},{"$f":"IF(I4>0,SUM(I$1:$I4),0)","v":0},{"$f":"IFERROR(VLOOKUP(EmpID,'4'!$B:$AZ,44,0),0)","v":0},{"$f":"IF(K4>0,SUM($K$1:K4),0)","v":0},{"$f":"IFERROR(VLOOKUP(EmpID,'4'!$B:$BZ,52,0),0)","v":0},{"$f":"SUM(M$1:$M4)","v":0},{"$f":"IFERROR(VLOOKUP(EmpID,'4'!$B:$BZ,53,0),0)","v":0},{"$f":"SUM(O$1:$O4)","v":0},{"$f":"IFERROR(VLOOKUP(EmpID,'4'!$B:$BZ,54,0),0)","v":0},{"$f":"SUM(Q$1:$Q4)","v":0},{"$f":"IFERROR(VLOOKUP(EmpID,'4'!$B:$BZ,55,0),0)","v":0},{"$f":"SUM(S$1:$S4)","v":0}]
[null,5,"มีนาคม",{"$f":"IFERROR(COUNT('5'!A:A),0)","v":0},{"$f":"IFERROR(VLOOKUP(EmpID,'5'!$B:$AS,41,0),0)","v":0},{"$f":"SUM(E$1:$E5)","v":9996},{"$f":"IFERROR(VLOOKUP(EmpID,'5'!$B:$AZ,43,0),0)","v":0},{"$f":"IF(G5>0,SUM(G$1:$G5),0)","v":0},{"$f":"IFERROR(VLOOKUP(EmpID,'5'!$B:$AZ,42,0),0)","v":0},{"$f":"IF(I5>0,SUM(I$1:$I5),0)","v":0},{"$f":"IFERROR(VLOOKUP(EmpID,'5'!$B:$AZ,44,0),0)","v":0},{"$f":"IF(K5>0,SUM($K$1:K5),0)","v":0},{"$f":"IFERROR(VLOOKUP(EmpID,'5'!$B:$BZ,52,0),0)","v":0},{"$f":"SUM(M$1:$M5)","v":0},{"$f":"IFERROR(VLOOKUP(EmpID,'5'!$B:$BZ,53,0),0)","v":0},{"$f":"SUM(O$1:$O5)","v":0},{"$f":"IFERROR(VLOOKUP(EmpID,'5'!$B:$BZ,54,0),0)","v":0},{"$f":"SUM(Q$1:$Q5)","v":0},{"$f":"IFERROR(VLOOKUP(EmpID,'5'!$B:$BZ,55,0),0)","v":0},{"$f":"SUM(S$1:$S5)","v":0}]
[null,6,"มีนาคม",{"$f":"IFERROR(COUNT('6'!A:A),0)","v":0},{"$f":"IFERROR(VLOOKUP(EmpID,'6'!$B:$AS,41,0),0)","v":0},{"$f":"SUM(E$1:$E6)","v":9996},{"$f":"IFERROR(VLOOKUP(EmpID,'6'!$B:$AZ,43,0),0)","v":0},{"$f":"IF(G6>0,SUM(G$1:$G6),0)","v":0},{"$f":"IFERROR(VLOOKUP(EmpID,'6'!$B:$AZ,42,0),0)","v":0},{"$f":"IF(I6>0,SUM(I$1:$I6),0)","v":0},{"$f":"IFERROR(VLOOKUP(EmpID,'6'!$B:$AZ,44,0),0)","v":0},{"$f":"IF(K6>0,SUM($K$1:K6),0)","v":0},{"$f":"IFERROR(VLOOKUP(EmpID,'6'!$B:$BZ,52,0),0)","v":0},{"$f":"SUM(M$1:$M6)","v":0},{"$f":"IFERROR(VLOOKUP(EmpID,'6'!$B:$BZ,53,0),0)","v":0},{"$f":"SUM(O$1:$O6)","v":0},{"$f":"IFERROR(VLOOKUP(EmpID,'6'!$B:$BZ,54,0),0)","v":0},{"$f":"SUM(Q$1:$Q6)","v":0},{"$f":"IFERROR(VLOOKUP(EmpID,'6'!$B:$BZ,55,0),0)","v":0},{"$f":"SUM(S$1:$S6)","v":0}]
[null,7,"เมษายน",{"$f":"IFERROR(COUNT('7'!A:A),0)","v":0},{"$f":"IFERROR(VLOOKUP(EmpID,'7'!$B:$AS,41,0),0)","v":0},{"$f":"SUM(E$1:$E7)","v":9996},{"$f":"IFERROR(VLOOKUP(EmpID,'7'!$B:$AZ,43,0),0)","v":0},{"$f":"IF(G7>0,SUM(G$1:$G7),0)","v":0},{"$f":"IFERROR(VLOOKUP(EmpID,'7'!$B:$AZ,42,0),0)","v":0},{"$f":"IF(I7>0,SUM(I$1:$I7),0)","v":0},{"$f":"IFERROR(VLOOKUP(EmpID,'7'!$B:$AZ,44,0),0)","v":0},{"$f":"IF(K7>0,SUM($K$1:K7),0)","v":0},{"$f":"IFERROR(VLOOKUP(EmpID,'7'!$B:$BZ,52,0),0)","v":0},{"$f":"SUM(M$1:$M7)","v":0},{"$f":"IFERROR(VLOOKUP(EmpID,'7'!$B:$BZ,53,0),0)","v":0},{"$f":"SUM(O$1:$O7)","v":0},{"$f":"IFERROR(VLOOKUP(EmpID,'7'!$B:$BZ,54,0),0)","v":0},{"$f":"SUM(Q$1:$Q7)","v":0},{"$f":"IFERROR(VLOOKUP(EmpID,'7'!$B:$BZ,55,0),0)","v":0},{"$f":"SUM(S$1:$S7)","v":0}]
[null,8,"เมษายน",{"$f":"IFERROR(COUNT('8'!A:A),0)","v":0},{"$f":"IFERROR(VLOOKUP(EmpID,'8'!$B:$AS,41,0),0)","v":0},{"$f":"SUM(E$1:$E8)","v":9996},{"$f":"IFERROR(VLOOKUP(EmpID,'8'!$B:$AZ,43,0),0)","v":0},{"$f":"IF(G8>0,SUM(G$1:$G8),0)","v":0},{"$f":"IFERROR(VLOOKUP(EmpID,'8'!$B:$AZ,42,0),0)","v":0},{"$f":"IF(I8>0,SUM(I$1:$I8),0)","v":0},{"$f":"IFERROR(VLOOKUP(EmpID,'8'!$B:$AZ,44,0),0)","v":0},{"$f":"IF(K8>0,SUM($K$1:K8),0)","v":0},{"$f":"IFERROR(VLOOKUP(EmpID,'8'!$B:$BZ,52,0),0)","v":0},{"$f":"SUM(M$1:$M8)","v":0},{"$f":"IFERROR(VLOOKUP(EmpID,'8'!$B:$BZ,53,0),0)","v":0},{"$f":"SUM(O$1:$O8)","v":0},{"$f":"IFERROR(VLOOKUP(EmpID,'8'!$B:$BZ,54,0),0)","v":0},{"$f":"SUM(Q$1:$Q8)","v":0},{"$f":"IFERROR(VLOOKUP(EmpID,'8'!$B:$BZ,55,0),0)","v":0},{"$f":"SUM(S$1:$S8)","v":0}]
[null,9,"พฤษภาคม",{"$f":"IFERROR(COUNT('9'!A:A),0)","v":0},{"$f":"IFERROR(VLOOKUP(EmpID,'9'!$B:$AS,41,0),0)","v":0},{"$f":"SUM(E$1:$E9)","v":9996},{"$f":"IFERROR(VLOOKUP(EmpID,'9'!$B:$AZ,43,0),0)","v":0},{"$f":"IF(G9>0,SUM(G$1:$G9),0)","v":0},{"$f":"IFERROR(VLOOKUP(EmpID,'9'!$B:$AZ,42,0),0)","v":0},{"$f":"IF(I9>0,SUM(I$1:$I9),0)","v":0},{"$f":"IFERROR(VLOOKUP(EmpID,'9'!$B:$AZ,44,0),0)","v":0},{"$f":"IF(K9>0,SUM($K$1:K9),0)","v":0},{"$f":"IFERROR(VLOOKUP(EmpID,'9'!$B:$BZ,52,0),0)","v":0},{"$f":"SUM(M$1:$M9)","v":0},{"$f":"IFERROR(VLOOKUP(EmpID,'9'!$B:$BZ,53,0),0)","v":0},{"$f":"SUM(O$1:$O9)","v":0},{"$f":"IFERROR(VLOOKUP(EmpID,'9'!$B:$BZ,54,0),0)","v":0},{"$f":"SUM(Q$1:$Q9)","v":0},{"$f":"IFERROR(VLOOKUP(EmpID,'9'!$B:$BZ,55,0),0)","v":0},{"$f":"SUM(S$1:$S9)","v":0}]
[null,10,"พฤษภาคม",{"$f":"IFERROR(COUNT('10'!A:A),0)","v":0},{"$f":"IFERROR(VLOOKUP(EmpID,'10'!$B:$AS,41,0),0)","v":0},{"$f":"SUM(E$1:$E10)","v":9996},{"$f":"IFERROR(VLOOKUP(EmpID,'10'!$B:$AZ,43,0),0)","v":0},{"$f":"IF(G10>0,SUM(G$1:$G10),0)","v":0},{"$f":"IFERROR(VLOOKUP(EmpID,'10'!$B:$AZ,42,0),0)","v":0},{"$f":"IF(I10>0,SUM(I$1:$I10),0)","v":0},{"$f":"IFERROR(VLOOKUP(EmpID,'10'!$B:$AZ,44,0),0)","v":0},{"$f":"IF(K10>0,SUM($K$1:K10),0)","v":0},{"$f":"IFERROR(VLOOKUP(EmpID,'10'!$B:$BZ,52,0),0)","v":0},{"$f":"SUM(M$1:$M10)","v":0},{"$f":"IFERROR(VLOOKUP(EmpID,'10'!$B:$BZ,53,0),0)","v":0},{"$f":"SUM(O$1:$O10)","v":0},{"$f":"IFERROR(VLOOKUP(EmpID,'10'!$B:$BZ,54,0),0)","v":0},{"$f":"SUM(Q$1:$Q10)","v":0},{"$f":"IFERROR(VLOOKUP(EmpID,'10'!$B:$BZ,55,0),0)","v":0},{"$f":"SUM(S$1:$S10)","v":0}]
[null,11,"มิถุนายน",{"$f":"IFERROR(COUNT('11'!A:A),0)","v":0},{"$f":"IFERROR(VLOOKUP(EmpID,'11'!$B:$AS,41,0),0)","v":0},{"$f":"SUM(E$1:$E11)","v":9996},{"$f":"IFERROR(VLOOKUP(EmpID,'11'!$B:$AZ,43,0),0)","v":0},{"$f":"IF(G11>0,SUM(G$1:$G11),0)","v":0},{"$f":"IFERROR(VLOOKUP(EmpID,'11'!$B:$AZ,42,0),0)","v":0},{"$f":"IF(I11>0,SUM(I$1:$I11),0)","v":0},{"$f":"IFERROR(VLOOKUP(EmpID,'11'!$B:$AZ,44,0),0)","v":0},{"$f":"IF(K11>0,SUM($K$1:K11),0)","v":0},{"$f":"IFERROR(VLOOKUP(EmpID,'11'!$B:$BZ,52,0),0)","v":0},{"$f":"SUM(M$1:$M11)","v":0},{"$f":"IFERROR(VLOOKUP(EmpID,'11'!$B:$BZ,53,0),0)","v":0},{"$f":"SUM(O$1:$O11)","v":0},{"$f":"IFERROR(VLOOKUP(EmpID,'11'!$B:$BZ,54,0),0)","v":0},{"$f":"SUM(Q$1:$Q11)","v":0},{"$f":"IFERROR(VLOOKUP(EmpID,'11'!$B:$BZ,55,0),0)","v":0},{"$f":"SUM(S$1:$S11)","v":0}]
[null,12,"มิถุนายน",{"$f":"IFERROR(COUNT('12'!A:A),0)","v":0},{"$f":"IFERROR(VLOOKUP(EmpID,'12'!$B:$AS,41,0),0)","v":0},{"$f":"SUM(E$1:$E12)","v":9996},{"$f":"IFERROR(VLOOKUP(EmpID,'12'!$B:$AZ,43,0),0)","v":0},{"$f":"IF(G12>0,SUM(G$1:$G12),0)","v":0},{"$f":"IFERROR(VLOOKUP(EmpID,'12'!$B:$AZ,42,0),0)","v":0},{"$f":"IF(I12>0,SUM(I$1:$I12),0)","v":0},{"$f":"IFERROR(VLOOKUP(EmpID,'12'!$B:$AZ,44,0),0)","v":0},{"$f":"IF(K12>0,SUM($K$1:K12),0)","v":0},{"$f":"IFERROR(VLOOKUP(EmpID,'12'!$B:$BZ,52,0),0)","v":0},{"$f":"SUM(M$1:$M12)","v":0},{"$f":"IFERROR(VLOOKUP(EmpID,'12'!$B:$BZ,53,0),0)","v":0},{"$f":"SUM(O$1:$O12)","v":0},{"$f":"IFERROR(VLOOKUP(EmpID,'12'!$B:$BZ,54,0),0)","v":0},{"$f":"SUM(Q$1:$Q12)","v":0},{"$f":"IFERROR(VLOOKUP(EmpID,'12'!$B:$BZ,55,0),0)","v":0},{"$f":"SUM(S$1:$S12)","v":0}]
[null,13,"กรกฎาคม"]
[null,14,"กรกฎาคม"]
[null,15,"สิงหาคม"]
[null,16,"สิงหาคม"]
[null,17,"กันยายน"]
[null,18,"กันยายน"]
[null,19,"ตุลาคม"]
[null,20,"ตุลาคม"]
[null,21,"พฤศจิกายน"]
[null,22,"พฤศจิกายน"]
[null,23,"ธันวาคม"]
[null,24,"ธันวาคม"]
[]
[null,null,null,null,{"$f":"IF(A1=1,F1,IF(A1=2,F2,IF(A1=3,F3,IF(A1=4,F4,IF(A1=5,F5,IF(A1=6,F6,IF(A1=7,F7,IF(A1=8,F8,IF(A1=9,F9,IF(A1=10,F10,IF(A1=11,F11,IF(A1=12,F12,IF(A1=13,F13,IF(A1=14,F14,IF(A1=15,F15,IF(A1=16,F16,IF(A1=17,F17,IF(A1=18,F18,IF(A1=19,F19,IF(A1=20,F20,IF(A1=21,F21,IF(A1=22,F22,IF(A1=23,F23,IF(A1=24,F24))))))))))))))))))))))))","v":9996},null,{"$f":"IF(A1=1,H1,IF(A1=2,H2,IF(A1=3,H3,IF(A1=4,H4,IF(A1=5,H5,IF(A1=6,H6,IF(A1=7,H7,IF(A1=8,H8,IF(A1=9,H9,IF(A1=10,H10,IF(A1=11,H11,IF(A1=12,H12,IF(A1=13,H13,IF(A1=14,H14,IF(A1=15,H15,IF(A1=16,H16,IF(A1=17,H17,IF(A1=18,H18,IF(A1=19,H19,IF(A1=20,H20,IF(A1=21,H21,IF(A1=22,H22,IF(A1=23,H23,IF(A1=24,H24))))))))))))))))))))))))","v":0},null,{"$f":"IF(A1=1,J1,IF(A1=2,J2,IF(A1=3,J3,IF(A1=4,J4,IF(A1=5,J5,IF(A1=6,J6,IF(A1=7,J7,IF(A1=8,J8,IF(A1=9,J9,IF(A1=10,J10,IF(A1=11,J11,IF(A1=12,J12,IF(A1=13,J13,IF(A1=14,J14,IF(A1=15,J15,IF(A1=16,J16,IF(A1=17,J17,IF(A1=18,J18,IF(A1=19,J19,IF(A1=20,J20,IF(A1=21,J21,IF(A1=22,J22,IF(A1=23,J23,IF(A1=24,J24))))))))))))))))))))))))","v":375},null,{"$f":"IF(A1=1,L1,IF(A1=2,L2,IF(A1=3,L3,IF(A1=4,L4,IF(A1=5,L5,IF(A1=6,L6,IF(A1=7,L7,IF(A1=8,L8,IF(A1=9,L9,IF(A1=10,L10,IF(A1=11,L11,IF(A1=12,L12,IF(A1=13,L13,IF(A1=14,L14,IF(A1=15,L15,IF(A1=16,L16,IF(A1=17,L17,IF(A1=18,L18,IF(A1=19,L19,IF(A1=20,L20,IF(A1=21,L21,IF(A1=22,L22,IF(A1=23,L23,IF(A1=24,L24))))))))))))))))))))))))","v":0},null,{"$f":"IF(A1=1,N1,IF(A1=2,N2,IF(A1=3,N3,IF(A1=4,N4,IF(A1=5,N5,IF(A1=6,N6,IF(A1=7,N7,IF(A1=8,N8,IF(A1=9,N9,IF(A1=10,N10,IF(A1=11,N11,IF(A1=12,N12,IF(A1=13,N13,IF(A1=14,N14,IF(A1=15,N15,IF(A1=16,N16,IF(A1=17,N17,IF(A1=18,N18,IF(A1=19,N19,IF(A1=20,N20,IF(A1=21,N21,IF(A1=22,N22,IF(A1=23,N23,IF(A1=24,N24))))))))))))))))))))))))","v":0},null,{"$f":"IF(A1=1,P1,IF(A1=2,P2,IF(A1=3,P3,IF(A1=4,P4,IF(A1=5,P5,IF(A1=6,P6,IF(A1=7,P7,IF(A1=8,P8,IF(A1=9,P9,IF(A1=10,P10,IF(A1=11,P11,IF(A1=12,P12,IF(A1=13,P13,IF(A1=14,P14,IF(A1=15,P15,IF(A1=16,P16,IF(A1=17,P17,IF(A1=18,P18,IF(A1=19,P19,IF(A1=20,P20,IF(A1=21,P21,IF(A1=22,P22,IF(A1=23,P23,IF(A1=24,P24))))))))))))))))))))))))","v":0},null,{"$f":"IF(A1=1,R1,IF(A1=2,R2,IF(A1=3,R3,IF(A1=4,R4,IF(A1=5,R5,IF(A1=6,R6,IF(A1=7,R7,IF(A1=8,R8,IF(A1=9,R9,IF(A1=10,R10,IF(A1=11,R11,IF(A1=12,R12,IF(A1=13,R13,IF(A1=14,R14,IF(A1=15,R15,IF(A1=16,R16,IF(A1=17,R17,IF(A1=18,R18,IF(A1=19,R19,IF(A1=20,R20,IF(A1=21,R21,IF(A1=22,R22,IF(A1=23,R23,IF(A1=24,R24))))))))))))))))))))))))","v":0},null,{"$f":"IF(A1=1,T1,IF(A1=2,T2,IF(A1=3,T3,IF(A1=4,T4,IF(A1=5,T5,IF(A1=6,T6,IF(A1=7,T7,IF(A1=8,T8,IF(A1=9,T9,IF(A1=10,T10,IF(A1=11,T11,IF(A1=12,T12,IF(A1=13,T13,IF(A1=14,T14,IF(A1=15,T15,IF(A1=16,T16,IF(A1=17,T17,IF(A1=18,T18,IF(A1=19,T19,IF(A1=20,T20,IF(A1=21,T21,IF(A1=22,T22,IF(A1=23,T23,IF(A1=24,T24))))))))))))))))))))))))","v":0}]
[]
[]
[]
[]
[]
["Limit ให้","300","คน"]
[]
[]
[1,{"$f":"A35+1","v":2},{"$f":"B35+1","v":3},{"$f":"C35+1","v":4},5,6,7,8,9,10,11,12,13,14,15,16,17,18,19,{"$f":"S35+1","v":20},21,22,23,24,25,26,27,28,29,30,31,32,33,{"$f":"AG35+1","v":34},{"$f":"AH35+1","v":35},36,37,38,39,40,41,42,43,44,45,46,47,48,49,50,51,52,53,54,55,56,57,58,59,60,61,62,63,64,65,66,67,{"$f":"BO35+1","v":68},69,70,71,72,73,74,75,76,77,78,79,80,81,82,83,"84","85","86","87","88"]
["a1","b1","c1","d1","e1","f1","g1","h1","i1","j1","k1","l1","m1","n1","o1","p1","q1","r1","s1","t1","u1","v1","w1","x1","y1",{"$f":"LEFT(ADDRESS(1, COLUMN(), 4), LEN(ADDRESS(1, COLUMN(), 4))-1) & \"1\"","v":"Z1"},"aa1","ab1","ac1","ad1","ae1","af1","ag1","ah1",{"$f":"LEFT(ADDRESS(1, COLUMN(), 4), LEN(ADDRESS(1, COLUMN(), 4))-1) & \"1\"","v":"AI1"},{"$f":"LEFT(ADDRESS(1, COLUMN(), 4), LEN(ADDRESS(1, COLUMN(), 4))-1) & \"1\"","v":"AJ1"},"AK1","AL1","AM1","AN1","AO1","AP1","AQ1","AR1","AS1","AT1","AU1","AV1","AW1","AX1","AY1","AZ1","BA1","BB1","BC1","BD1","BE1","BF1","BG1","BH1","BI1","BJ1","BK1","BL1","BM1","BN1","BO1","BP1","BQ1","BR1","BS1","BT1","BU1","BV1","BW1","BX1","BY1","BZ1","CA1","CB1","CC1","CD1","CE1","CF1","CG1","CH1","CI1","CJ1"]
[{"$f":"INDIRECT(\"'\"&DuenTee&\"'!\"&A36)","v":"ลำดับที่"},"รหัสพนักงาน","คำนำหน้า","ชื่อ",{"$f":"INDIRECT(\"'\"&DuenTee&\"'!\"&E36)","v":"นามสกุล"},"Email","ตำแหน่ง","ธนาคาร","เลขที่บัญชีธนาคาร","วันที่เข้างาน","LineUser ID","ค่าแรง","จำนวนวันทำงาน","เงินเดือน/ค่าแรง","OT 1 เท่า (ชม.)","จำนวน","OT 1.5 เท่า (ชม.)","จำนวน","OT 2.0 เท่า (ชม.)","จำนวน","OT 3.0 เท่า (ชม.)","จำนวน","รวม OT","Commission","ค่าเบี้ยขยัน","ค่าเบี้ยเลี้ยง","ค่าโทรศัพท์","ค่าเดินทาง/ค่าพาหนะ","เงินโบนัส","อื่นๆ","อื่นๆ","อื่นๆ",0,0,0,{"$f":"INDIRECT(\"'\"&DuenTee&\"'!\"&AJ36)","v":0},0,0,0,0,0,"รวมรายได้","ประกันสังคม","ภาษี","กองทุนสำรองเลี้ยงชีพ","หักกองทุน %","หัก  กยศ","หักลาป่วย","หักมาสาย","หักลากิจ","หักลาอื่นๆ","หักค่าใช้จ่ายอื่นๆ","เบิกเงินเดือนล่วงหน้า","ธรรมเนียม",0,0,0,0,"รวมรายการหัก(ไม่รวมภาษี)","รวมรายการหัก","เงินได้สุทธิ","ลากิจ(ชม)","ลาป่วย(วัน)","พักร้อน(วัน)","ขาดงาน","ลดหย่อนรวมสุทธิ","ลดหย่อนรวม","ค่าใช้จ่ายเหมา 50%","หักค่าลดหย่อนส่วนตัว","ประกันสังคม","ลดหย่อนพ่อแม่","ลดหย่อนลูก"]
[{"$f":"VLOOKUP(No,INDIRECT(\"'\"&DuenTee&\"'!\"&\"$A$2:$AE$301\"),A35,0)","v":2},{"$f":"VLOOKUP(No,INDIRECT(\"'\"&DuenTee&\"'!\"&\"$A$2:$AE$301\"),B35,0)","v":"69002"},{"$f":"IF(VLOOKUP(No,INDIRECT(\"'\"&DuenTee&\"'!\"&\"$A$2:$AE$301\"),C35,0)=\"\",\"\",VLOOKUP(No,INDIRECT(\"'\"&DuenTee&\"'!\"&\"$A$2:$AE$301\"),C35,0))","v":"นางสาว"},{"$f":"VLOOKUP(No,INDIRECT(\"'\"&DuenTee&\"'!\"&\"$A$2:$AE$301\"),D35,0)","v":"สมหญิง"},{"$f":"IF(VLOOKUP(No,INDIRECT(\"'\"&DuenTee&\"'!\"&\"$A$2:$AE$301\"),E35,0)=\"\",\"\",VLOOKUP(No,INDIRECT(\"'\"&DuenTee&\"'!\"&\"$A$2:$AE$301\"),E35,0))","v":"บุญรักษา"},{"$f":"VLOOKUP(No,INDIRECT(\"'\"&DuenTee&\"'!\"&\"$A$2:$AE$301\"),F35,0)","v":"puttachart@yahoo.com"},"บัญชี","ไทยพาณิชย์",{"$f":"VLOOKUP(No,INDIRECT(\"'\"&DuenTee&\"'!\"&\"$A$2:$AE$301\"),I35,0)","v":"765-0-41698-4"},241726,{"$f":"IFERROR(IF(VLOOKUP(No,INDIRECT(\"'\"&DuenTee&\"'!$A$2:$AE$301\"),K35,0)=0,\"\",VLOOKUP(No,INDIRECT(\"'\"&DuenTee&\"'!$A$2:$AE$301\"),K35,0)),\"\")","v":""},357,18,{"$f":"VLOOKUP(No,INDIRECT(\"'\"&DuenTee&\"'!\"&\"$A$2:$AE$3101\"),N35,0)","v":6426},{"$f":"VLOOKUP(No,INDIRECT(\"'\"&DuenTee&\"'!\"&\"$A$2:$AE$301\"),O35,0)","v":0},0,48,3213,0,0,0,0,3213,1,357,0,0,{"$f":"VLOOKUP(No,INDIRECT(\"'\"&DuenTee&\"'!\"&\"$A$2:$bq$301\"),AB35,0)","v":0},0,0,0,0,0,0,0,0,0,0,0,0,0,9996,375,0,0,0,0,0,0,0,0,0,0,0,0,0,0,0,375,375,10335,0,0,0,0,0,0,0,60000,{"$error":"#REF!"},{"$error":"#REF!"},{"$error":"#REF!"}]
[null,null,null,null,null,null,null,null,null,null,null,null,null,null,null,null,null,null,null,null,null,{"$f":"P38+R38+T38+V38","v":3213}]
["OT1",1,null,{"$f":"B37&\" \"&B38","v":"รหัสพนักงาน 69002"}]
["OT1.5",1.5,null,{"$f":"C38&\"\"&D38&\" \"&E38","v":"นางสาวสมหญิง บุญรักษา"}]
["OT2",2,null,{"$f":"F37&\" \"&F38","v":"Email puttachart@yahoo.com"}]
["OT3",3,null,{"$f":"G37&\" \"&G38","v":"ตำแหน่ง บัญชี"}]
[null,null,null,{"$f":"H37&\"\"&H38","v":"ธนาคารไทยพาณิชย์"}]
[]
[]
[1,"1-15","มกราคม"]
[2,"16-31","มกราคม",null,1,"มกราคม"]
[3,"1-15","กุมภาพันธ์",null,2,"กุมภาพันธ์"]
[4,"16-28,29","กุมภาพันธ์",null,3,"มีนาคม"]
[5,"1-15","มีนาคม",null,4,"เมษายน"]
[6,"16-31","มีนาคม",null,5,"พฤษภาคม"]
[7,"1-15","เมษายน",null,6,"มิถุนายน"]
[8,"16-30","เมษายน",null,7,"กรกฎาคม"]
[9,"1-15","พฤษภาคม",null,8,"สิงหาคม"]
[10,"16-31","พฤษภาคม",null,9,"กันยายน"]
[11,"1-15","มิถุนายน",null,10,"ตุลาคม"]
[12,"16-30","มิถุนายน",null,11,"พฤศจิกายน"]
[13,"1-15","กรกฎาคม",null,12,"ธันวาคม"]
[14,"16-31","กรกฎาคม"]
[15,"1-15","สิงหาคม"]
[16,"16-31","สิงหาคม"]
[17,"1-15","กันยายน"]
[18,"16-30","กันยายน"]
[19,"1-15","ตุลาคม"]
[20,"16-31","ตุลาคม"]
[21,"1-15","พฤศจิกายน"]
[22,"16-30","พฤศจิกายน"]
[23,"1-15","ธันวาคม"]
[24,"16-31"," ธันวาคม "]

{"sheet":"1","index":8,"n_rows":4,"n_cols":75,"rows_kept":4,"cut":false,"hidden":false,"merged":[]}
["ลำดับที่","รหัสพนักงาน","คำนำหน้า","ชื่อ","นามสกุล","Email","ตำแหน่ง","ธนาคาร","เลขที่บัญชีธนาคาร","วันที่เข้างาน","LineUser ID","ค่าแรง","จำนวนวันทำงาน","เงินเดือน/ค่าแรง","OT 1 เท่า (ชม.)","จำนวน","OT 1.5 เท่า (ชม.)","จำนวน","OT 2.0 เท่า (ชม.)","จำนวน","OT 3.0 เท่า (ชม.)","จำนวน","รวม OT","Commission","ค่าเบี้ยขยัน","ค่าเบี้ยเลี้ยง","ค่าโทรศัพท์","ค่าเดินทาง/ค่าพาหนะ","เงินโบนัส","อื่นๆ","อื่นๆ","อื่นๆ",null,null,null,null,null,null,null,null,null,"รวมรายได้","ประกันสังคม","ภาษี","กองทุนสำรองเลี้ยงชีพ","หักกองทุน %","หัก  กยศ","หักลาป่วย","หักมาสาย","หักลากิจ","หักลาอื่นๆ","หักค่าใช้จ่ายอื่นๆ","เบิกเงินเดือนล่วงหน้า","ธรรมเนียม",null,null,null,null,"รวมรายการหัก(ไม่รวมภาษี)","รวมรายการหัก","เงินได้สุทธิ","ลากิจ(ชม)","ลาป่วย(วัน)","พักร้อน(วัน)","ขาดงาน","ลดหย่อนรวมสุทธิ","ลดหย่อนรวม","ค่าใช้จ่ายเหมา 50%","หักค่าลดหย่อนส่วนตัว","ประกันสังคม","ลดหย่อนพ่อแม่","ลดหย่อนลูก","ค่าเบี้ยประกัน","ดอกเบี้ยบ้าน","เพิ่มได้"]
[1,"69001","นาย","สมชาย","ใจดี","pdeeprom@gmail.com","กรรมการ","กสิกรไทย","150-0-55902-4",242605,null,357,19,6783,0,0,33,2208.9375,0,0,0,0,{"$f":"Table4210323232423456[[#This Row],[Column10]]+Table4210323232423456[[#This Row],[Column55]]+Table4210323232423456[[#This Row],[Column57]]+Table4210323232423456[[#This Row],[Column13]]","v":2208.9375},1,2,3,4,5,6,7,8,9,null,null,null,null,null,null,null,null,null,{"$f":"Table4210323232423456[[#This Row],[Column58]]+Table4210323232423456[[#This Row],[Column14]]+Table4210323232423456[[#This Row],[Column16]]+Table4210323232423456[[#This Row],[Column17]]+Table4210323232423456[[#This Row],[Column19]]+Table4210323232423456[[#This Row],[Column62]]+Table4210323232423456[[#This Row],[Column63]]+Table4210323232423456[[#This Row],[Column64]]+Table4210323232423456[[#This Row],[Column65]]+Table4210323232423456[[#This Row],[Column66]]+Table4210323232423456[[#This Row],[Column41]]","v":9011.9375},375,{"$f":"taxcal(Table4210323232423456[[#This Row],[Column67]],Table4210323232423456[[#This Row],[Column32]])","v":0},null,null,0,null,null,null,null,null,2000,null,null,null,null,null,{"$f":"Table4210323232423456[[#This Row],[Column20]]+Table4210323232423456[[#This Row],[Column24]]+Table4210323232423456[[#This Row],[Column25]]+Table4210323232423456[[#This Row],[Column26]]+Table4210323232423456[[#This Row],[Column27]]+Table4210323232423456[[#This Row],[Column28]]+Table4210323232423456[[#This Row],[Column29]]+Table4210323232423456[[#This Row],[Column72]]+Table4210323232423456[[#This Row],[Column73]]+Table4210323232423456[[#This Row],[Column74]]+Table4210323232423456[[#This Row],[Column75]]+Table4210323232423456[[#This Row],[Column76]]+Table4210323232423456[[#This Row],[Column77]]+Table4210323232423456[[#This Row],[Column22]]","v":2375},{"$f":"Table4210323232423456[[#This Row],[Column20]]+Table4210323232423456[[#This Row],[Column21]]+Table4210323232423456[[#This Row],[Column24]]+Table4210323232423456[[#This Row],[Column25]]+Table4210323232423456[[#This Row],[Column26]]+Table4210323232423456[[#This Row],[Column27]]+Table4210323232423456[[#This Row],[Column28]]+Table4210323232423456[[#This Row],[Column29]]+Table4210323232423456[[#This Row],[Column72]]+Table4210323232423456[[#This Row],[Column73]]+Table4210323232423456[[#This Row],[Column74]]+Table4210323232423456[[#This Row],[Column75]]+Table4210323232423456[[#This Row],[Column76]]+Table4210323232423456[[#This Row],[Column77]]+Table4210323232423456[[#This Row],[Column22]]","v":2375},7940.9375,null,null,null,null,null,null,null,60000,{"$f":"Table4210323232423456[[#This Row],[Column20]]*12","v":4500}]
[2,"69002","นางสาว","สมหญิง","บุญรักษา","puttachart@yahoo.com","บัญชี","ไทยพาณิชย์","765-0-41698-4",241726,null,357,18,6426,0,0,48,3213,0,0,0,0,{"$f":"Table4210323232423456[[#This Row],[Column10]]+Table4210323232423456[[#This Row],[Column55]]+Table4210323232423456[[#This Row],[Column57]]+Table4210323232423456[[#This Row],[Column13]]","v":3213},1,357,0,0,null,null,null,null,null,null,null,null,null,null,null,null,null,null,{"$f":"Table4210323232423456[[#This Row],[Column58]]+Table4210323232423456[[#This Row],[Column14]]+Table4210323232423456[[#This Row],[Column16]]+Table4210323232423456[[#This Row],[Column17]]+Table4210323232423456[[#This Row],[Column19]]+Table4210323232423456[[#This Row],[Column62]]+Table4210323232423456[[#This Row],[Column63]]+Table4210323232423456[[#This Row],[Column64]]+Table4210323232423456[[#This Row],[Column65]]+Table4210323232423456[[#This Row],[Column66]]+Table4210323232423456[[#This Row],[Column41]]","v":9996},375,0,null,null,0,null,null,null,null,null,0,null,null,null,null,null,{"$f":"Table4210323232423456[[#This Row],[Column20]]+Table4210323232423456[[#This Row],[Column24]]+Table4210323232423456[[#This Row],[Column25]]+Table4210323232423456[[#This Row],[Column26]]+Table4210323232423456[[#This Row],[Column27]]+Table4210323232423456[[#This Row],[Column28]]+Table4210323232423456[[#This Row],[Column29]]+Table4210323232423456[[#This Row],[Column72]]+Table4210323232423456[[#This Row],[Column73]]+Table4210323232423456[[#This Row],[Column74]]+Table4210323232423456[[#This Row],[Column75]]+Table4210323232423456[[#This Row],[Column76]]+Table4210323232423456[[#This Row],[Column77]]","v":375},{"$f":"Table4210323232423456[[#This Row],[Column20]]+Table4210323232423456[[#This Row],[Column21]]+Table4210323232423456[[#This Row],[Column24]]+Table4210323232423456[[#This Row],[Column25]]+Table4210323232423456[[#This Row],[Column26]]+Table4210323232423456[[#This Row],[Column27]]+Table4210323232423456[[#This Row],[Column28]]+Table4210323232423456[[#This Row],[Column29]]+Table4210323232423456[[#This Row],[Column72]]+Table4210323232423456[[#This Row],[Column73]]+Table4210323232423456[[#This Row],[Column74]]+Table4210323232423456[[#This Row],[Column75]]+Table4210323232423456[[#This Row],[Column76]]+Table4210323232423456[[#This Row],[Column77]]","v":375},10335,null,null,null,null,null,null,null,60000,{"$f":"Table4210323232423456[[#This Row],[Column20]]*12","v":4500}]
[3,"69003","นาย","นเดชน์","คุนานนท์","puttobecon@gmail.com","พนักงานทั่วไป","กรุงเทพ","225-0-33166-9",239456,null,357,20,7140,0,0,51,3413.8125,16,1428,0,0,{"$f":"Table4210323232423456[[#This Row],[Column10]]+Table4210323232423456[[#This Row],[Column55]]+Table4210323232423456[[#This Row],[Column57]]+Table4210323232423456[[#This Row],[Column13]]","v":4841.8125},0,0,0,0,null,null,null,null,null,null,null,null,null,null,null,null,null,null,{"$f":"Table4210323232423456[[#This Row],[Column58]]+Table4210323232423456[[#This Row],[Column14]]+Table4210323232423456[[#This Row],[Column16]]+Table4210323232423456[[#This Row],[Column17]]+Table4210323232423456[[#This Row],[Column19]]+Table4210323232423456[[#This Row],[Column62]]+Table4210323232423456[[#This Row],[Column63]]+Table4210323232423456[[#This Row],[Column64]]+Table4210323232423456[[#This Row],[Column65]]+Table4210323232423456[[#This Row],[Column66]]+Table4210323232423456[[#This Row],[Column41]]","v":11981.8125},393,0,null,null,0,null,null,null,null,null,0,null,null,null,null,null,{"$f":"Table4210323232423456[[#This Row],[Column20]]+Table4210323232423456[[#This Row],[Column24]]+Table4210323232423456[[#This Row],[Column25]]+Table4210323232423456[[#This Row],[Column26]]+Table4210323232423456[[#This Row],[Column27]]+Table4210323232423456[[#This Row],[Column28]]+Table4210323232423456[[#This Row],[Column29]]+Table4210323232423456[[#This Row],[Column72]]+Table4210323232423456[[#This Row],[Column73]]+Table4210323232423456[[#This Row],[Column74]]+Table4210323232423456[[#This Row],[Column75]]+Table4210323232423456[[#This Row],[Column76]]+Table4210323232423456[[#This Row],[Column77]]+Table4210323232423456[[#This Row],[Column22]]","v":393},{"$f":"Table4210323232423456[[#This Row],[Column20]]+Table4210323232423456[[#This Row],[Column21]]+Table4210323232423456[[#This Row],[Column24]]+Table4210323232423456[[#This Row],[Column25]]+Table4210323232423456[[#This Row],[Column26]]+Table4210323232423456[[#This Row],[Column27]]+Table4210323232423456[[#This Row],[Column28]]+Table4210323232423456[[#This Row],[Column29]]+Table4210323232423456[[#This Row],[Column72]]+Table4210323232423456[[#This Row],[Column73]]+Table4210323232423456[[#This Row],[Column74]]+Table4210323232423456[[#This Row],[Column75]]+Table4210323232423456[[#This Row],[Column76]]+Table4210323232423456[[#This Row],[Column77]]+Table4210323232423456[[#This Row],[Column22]]","v":393},14522.8125,null,null,null,null,null,null,null,60000,{"$f":"Table4210323232423456[[#This Row],[Column20]]*12","v":4716}]

{"sheet":"2","index":9,"n_rows":0,"n_cols":0,"rows_kept":0,"cut":false,"hidden":false,"merged":[]}

{"sheet":"3","index":10,"n_rows":0,"n_cols":0,"rows_kept":0,"cut":false,"hidden":false,"merged":[]}

{"sheet":"4","index":11,"n_rows":0,"n_cols":0,"rows_kept":0,"cut":false,"hidden":false,"merged":[]}

{"sheet":"5","index":12,"n_rows":0,"n_cols":0,"rows_kept":0,"cut":false,"hidden":false,"merged":[]}

{"sheet":"6","index":13,"n_rows":0,"n_cols":0,"rows_kept":0,"cut":false,"hidden":false,"merged":[]}

{"sheet":"7","index":14,"n_rows":0,"n_cols":0,"rows_kept":0,"cut":false,"hidden":false,"merged":[]}

{"sheet":"8","index":15,"n_rows":0,"n_cols":0,"rows_kept":0,"cut":false,"hidden":false,"merged":[]}

{"sheet":"9","index":16,"n_rows":0,"n_cols":0,"rows_kept":0,"cut":false,"hidden":false,"merged":[]}

{"sheet":"10","index":17,"n_rows":0,"n_cols":0,"rows_kept":0,"cut":false,"hidden":false,"merged":[]}

{"sheet":"11","index":18,"n_rows":0,"n_cols":0,"rows_kept":0,"cut":false,"hidden":false,"merged":[]}

{"sheet":"12","index":19,"n_rows":0,"n_cols":0,"rows_kept":0,"cut":false,"hidden":false,"merged":[]}

{"sheet":"คู่มือ","index":20,"n_rows":25,"n_cols":4,"rows_kept":25,"cut":false,"hidden":false,"merged":[]}
[null,"https://www.cdnex.co.th/prog/userid.html",null,"ดู Line User Id ของเรานำ link เปิดบน line ของเรา"]
[]
[]
[]
[]
[]
[]
[]
[]
[]
[]
[]
[]
[]
[]
[]
[]
[]
[]
[]
[]
[]
[]
[]
[null,"วิธีการตั้งค่าหน้ากระดาษ"]