{"text_format":"1","workbook":"xlsx","n_sheets":16,"sheets":["Form","Sheet1","Print","1","2","3","4","5","6","7","8","9","10","11","12","คู่มือ"],"not_rendered":{"charts":0,"images":4,"macros":1,"external_links":0,"defined_names":21,"comments":1,"pivot_tables":0},"unopened":[],"bounds":{"document_bytes":16777216,"sheet_cells":100000,"rows_first":2000,"rows_last":500,"rows_between":2000,"halvings":0,"cell_chars":16384,"cell_head_chars":4096},"cells_cut":0,"cells_raw":0,"read":"whole","date_system":"1900"}

{"sheet":"Form","index":0,"n_rows":18,"n_cols":5,"rows_kept":18,"cut":false,"hidden":false,"merged":[[4,0,4,1],[4,2,4,3],[5,4,6,4]]}
[]
[]
[]
[]
["รายการได้",null,"รายการหัก",null,{"$f":"Print!A3","v":"วันที่ออกเงินเดือน"}]
[]
[{"$f":"Sheet1!I21","v":"เงินเดือน"},{"$f":"Sheet1!I22","v":38250},{"$f":"Sheet1!T21","v":"ประกันสังคม"},{"$f":"Sheet1!T22","v":750}]
[{"$f":"Sheet1!J21","v":"OT(จำนวนเงิน)"},{"$f":"Sheet1!J22","v":2800},{"$f":"Sheet1!U21","v":"ภาษี"},{"$f":"Sheet1!U22","v":1051.6666666666667}]
[{"$f":"Sheet1!K21","v":"Commission"},{"$f":"Sheet1!K22","v":1500},{"$f":"Sheet1!W21","v":"กองทุนสำรองเลี้ยงชีพ"},{"$f":"Sheet1!W22","v":1147.5}]
[{"$f":"Sheet1!L21","v":"ค่าเบี้ยขยัน"},{"$f":"Sheet1!L22","v":800},{"$f":"Sheet1!X21","v":"หักเบิกล่วงหน้า"},{"$f":"Sheet1!X22","v":0}]
[{"$f":"Sheet1!M21","v":"ค่าเบี้ยเลี้ยง"},{"$f":"Sheet1!M22","v":0},{"$f":"Sheet1!Y21","v":"อื่นๆ"},{"$f":"Sheet1!Y22","v":1500}]
[{"$f":"Sheet1!N21","v":"ค่าโทรศัพท์"},{"$f":"Sheet1!N22","v":0},{"$f":"Sheet1!Z21","v":"เปลี่ยนได้ z"},{"$f":"Sheet1!Z22","v":1}]
[{"$f":"Sheet1!O21","v":"ค่าเดินทาง/ค่าพาหนะ"},{"$f":"Sheet1!O22","v":0},{"$f":"Sheet1!AA21","v":"เปลี่ยนได้ aa"},{"$f":"Sheet1!AA22","v":2},{"$f":"Sheet1!AF21","v":"รายได้สุทธิ"}]
[{"$f":"Sheet1!P21","v":"เงินโบนัส"},{"$f":"Sheet1!P22","v":0},{"$f":"Sheet1!AB21","v":"เปลี่ยนได้ ab"},{"$f":"Sheet1!AB22","v":3}]
[{"$f":"Sheet1!S21","v":"รวมรายรับ"},{"$f":"Sheet1!S22","v":43350},{"$f":"Sheet1!AE21","v":"รวมรายการหัก"},{"$f":"Sheet1!AE22","v":4459.166666666667}]
[]
["เงินได้สะสม / ปี","ภาษีสะสม / ปี","กองทุนสำรองเลี้ยงชีพสะสม / ปี","ประกันสังคมสะสม / ปี"]
[{"$f":"Sheet1!E14","v":43350},{"$f":"Sheet1!G14","v":1051.6666666666667},{"$f":"Sheet1!K14","v":1147.5},{"$f":"Sheet1!I14","v":750}]

{"sheet":"Sheet1","index":1,"n_rows":23,"n_cols":41,"rows_kept":23,"cut":false,"hidden":true,"merged":[]}
[{"$f":"DuenTee","v":1},1,"มกราคม",{"$f":"IFERROR(COUNT('1'!A:A),0)","v":4},{"$f":"IFERROR(VLOOKUP(EmpID,'1'!$B:$AF,18,0),0)","v":43350},{"$f":"E1","v":43350},{"$f":"IFERROR(VLOOKUP(EmpID,'1'!$B:$AF,20,0),0)","v":1051.6666666666667},{"$f":"G1","v":1051.6666666666667},{"$f":"IFERROR(VLOOKUP(EmpID,'1'!$B:$AF,19,0),0)","v":750},{"$f":"I1","v":750},{"$f":"IFERROR(VLOOKUP(EmpID,'1'!$B:$AK,22,0),0)","v":1147.5},{"$f":"K1","v":1147.5}]
[{"$f":"No","v":1},2,"กุมภาพันธ์",{"$f":"IFERROR(COUNT('2'!A:A),0)","v":0},{"$f":"IFERROR(VLOOKUP(EmpID,'2'!$B:$AE,18,0),0)","v":0},{"$f":"SUM(E$1:$E2)","v":43350},{"$f":"IFERROR(VLOOKUP(EmpID,'2'!$B:$AE,20,0),0)","v":0},{"$f":"SUM(G$1:$G2)","v":1051.6666666666667},{"$f":"IFERROR(VLOOKUP(EmpID,'2'!$B:$AE,19,0),0)","v":0},{"$f":"SUM(I$1:$I2)","v":750},{"$f":"IFERROR(VLOOKUP(EmpID,'2'!$B:$AJ,22,0),0)","v":0},{"$f":"SUM($K$1:K2)","v":1147.5}]
[{"$f":"EmpID","v":63001},3,"มีนาคม",{"$f":"IFERROR(COUNT('3'!A:A),0)","v":0},{"$f":"IFERROR(VLOOKUP(EmpID,'3'!$B:$AE,18,0),0)","v":0},{"$f":"SUM(E$1:$E3)","v":43350},{"$f":"IFERROR(VLOOKUP(EmpID,'3'!$B:$AE,20,0),0)","v":0},{"$f":"SUM(G$1:$G3)","v":1051.6666666666667},{"$f":"IFERROR(VLOOKUP(EmpID,'3'!$B:$AE,19,0),0)","v":0},{"$f":"SUM(I$1:$I3)","v":750},{"$f":"IFERROR(VLOOKUP(EmpID,'3'!$B:$AJ,22,0),0)","v":0},{"$f":"SUM($K$1:K3)","v":1147.5}]
[null,4,"เมษายน",{"$f":"IFERROR(COUNT('4'!A:A),0)","v":0},{"$f":"IFERROR(VLOOKUP(EmpID,'4'!$B:$AE,18,0),0)","v":0},{"$f":"SUM(E$1:$E4)","v":43350},{"$f":"IFERROR(VLOOKUP(EmpID,'4'!$B:$AE,20,0),0)","v":0},{"$f":"SUM(G$1:$G4)","v":1051.6666666666667},{"$f":"IFERROR(VLOOKUP(EmpID,'4'!$B:$AE,19,0),0)","v":0},{"$f":"SUM(I$1:$I4)","v":750},{"$f":"IFERROR(VLOOKUP(EmpID,'4'!$B:$AJ,22,0),0)","v":0},{"$f":"SUM($K$1:K4)","v":1147.5}]
[null,5,"พฤษภาคม",{"$f":"IFERROR(COUNT('5'!A:A),0)","v":0},{"$f":"IFERROR(VLOOKUP(EmpID,'5'!$B:$AE,18,0),0)","v":0},{"$f":"SUM(E$1:$E5)","v":43350},{"$f":"IFERROR(VLOOKUP(EmpID,'5'!$B:$AE,20,0),0)","v":0},{"$f":"SUM(G$1:$G5)","v":1051.6666666666667},{"$f":"IFERROR(VLOOKUP(EmpID,'5'!$B:$AE,19,0),0)","v":0},{"$f":"SUM(I$1:$I5)","v":750},{"$f":"IFERROR(VLOOKUP(EmpID,'5'!$B:$AJ,22,0),0)","v":0},{"$f":"SUM($K$1:K5)","v":1147.5}]
[null,6,"มิถุนายน",{"$f":"IFERROR(COUNT('6'!A:A),0)","v":0},{"$f":"IFERROR(VLOOKUP(EmpID,'6'!$B:$AE,18,0),0)","v":0},{"$f":"SUM(E$1:$E6)","v":43350},{"$f":"IFERROR(VLOOKUP(EmpID,'6'!$B:$AE,20,0),0)","v":0},{"$f":"SUM(G$1:$G6)","v":1051.6666666666667},{"$f":"IFERROR(VLOOKUP(EmpID,'6'!$B:$AE,19,0),0)","v":0},{"$f":"SUM(I$1:$I6)","v":750},{"$f":"IFERROR(VLOOKUP(EmpID,'6'!$B:$AJ,22,0),0)","v":0},{"$f":"SUM($K$1:K6)","v":1147.5}]
[null,7,"กรกฎาคม",{"$f":"IFERROR(COUNT('7'!A:A),0)","v":0},{"$f":"IFERROR(VLOOKUP(EmpID,'7'!$B:$AE,18,0),0)","v":0},{"$f":"SUM(E$1:$E7)","v":43350},{"$f":"IFERROR(VLOOKUP(EmpID,'7'!$B:$AE,20,0),0)","v":0},{"$f":"SUM(G$1:$G7)","v":1051.6666666666667},{"$f":"IFERROR(VLOOKUP(EmpID,'7'!$B:$AE,19,0),0)","v":0},{"$f":"SUM(I$1:$I7)","v":750},{"$f":"IFERROR(VLOOKUP(EmpID,'7'!$B:$AJ,22,0),0)","v":0},{"$f":"SUM($K$1:K7)","v":1147.5}]
[null,8,"สิงหาคม",{"$f":"IFERROR(COUNT('8'!A:A),0)","v":0},{"$f":"IFERROR(VLOOKUP(EmpID,'8'!$B:$AE,18,0),0)","v":0},{"$f":"SUM(E$1:$E8)","v":43350},{"$f":"IFERROR(VLOOKUP(EmpID,'8'!$B:$AE,20,0),0)","v":0},{"$f":"SUM(G$1:$G8)","v":1051.6666666666667},{"$f":"IFERROR(VLOOKUP(EmpID,'8'!$B:$AE,19,0),0)","v":0},{"$f":"SUM(I$1:$I8)","v":750},{"$f":"IFERROR(VLOOKUP(EmpID,'8'!$B:$AJ,22,0),0)","v":0},{"$f":"SUM($K$1:K8)","v":1147.5}]
[null,9,"กันยายน",{"$f":"IFERROR(COUNT('9'!A:A),0)","v":0},{"$f":"IFERROR(VLOOKUP(EmpID,'9'!$B:$AE,18,0),0)","v":0},{"$f":"SUM(E$1:$E9)","v":43350},{"$f":"IFERROR(VLOOKUP(EmpID,'9'!$B:$AE,20,0),0)","v":0},{"$f":"SUM(G$1:$G9)","v":1051.6666666666667},{"$f":"IFERROR(VLOOKUP(EmpID,'9'!$B:$AE,19,0),0)","v":0},{"$f":"SUM(I$1:$I9)","v":750},{"$f":"IFERROR(VLOOKUP(EmpID,'9'!$B:$AJ,22,0),0)","v":0},{"$f":"SUM($K$1:K9)","v":1147.5}]
[null,10,"ตุลาคม",{"$f":"IFERROR(COUNT('10'!A:A),0)","v":0},{"$f":"IFERROR(VLOOKUP(EmpID,'10'!$B:$AE,18,0),0)","v":0},{"$f":"SUM(E$1:$E10)","v":43350},{"$f":"IFERROR(VLOOKUP(EmpID,'10'!$B:$AE,20,0),0)","v":0},{"$f":"SUM(G$1:$G10)","v":1051.6666666666667},{"$f":"IFERROR(VLOOKUP(EmpID,'10'!$B:$AE,19,0),0)","v":0},{"$f":"SUM(I$1:$I10)","v":750},{"$f":"IFERROR(VLOOKUP(EmpID,'10'!$B:$AJ,22,0),0)","v":0},{"$f":"SUM($K$1:K10)","v":1147.5}]
[null,11,"พฤศจิกายน",{"$f":"IFERROR(COUNT('11'!A:A),0)","v":0},{"$f":"IFERROR(VLOOKUP(EmpID,'11'!$B:$AE,18,0),0)","v":0},{"$f":"SUM(E$1:$E11)","v":43350},{"$f":"IFERROR(VLOOKUP(EmpID,'11'!$B:$AE,20,0),0)","v":0},{"$f":"SUM(G$1:$G11)","v":1051.6666666666667},{"$f":"IFERROR(VLOOKUP(EmpID,'11'!$B:$AE,19,0),0)","v":0},{"$f":"SUM(I$1:$I11)","v":750},{"$f":"IFERROR(VLOOKUP(EmpID,'11'!$B:$AJ,22,0),0)","v":0},{"$f":"SUM($K$1:K11)","v":1147.5}]
[null,12,"ธันวาคม",{"$f":"IFERROR(COUNT('12'!A:A),0)","v":0},{"$f":"IFERROR(VLOOKUP(EmpID,'12'!$B:$AE,18,0),0)","v":0},{"$f":"SUM(E$1:$E12)","v":43350},{"$f":"IFERROR(VLOOKUP(EmpID,'12'!$B:$AE,20,0),0)","v":0},{"$f":"SUM(G$1:$G12)","v":1051.6666666666667},{"$f":"IFERROR(VLOOKUP(EmpID,'12'!$B:$AE,19,0),0)","v":0},{"$f":"SUM(I$1:$I12)","v":750},{"$f":"IFERROR(VLOOKUP(EmpID,'12'!$B:$AJ,22,0),0)","v":0},{"$f":"SUM($K$1:K12)","v":1147.5}]
[]
[null,null,null,null,{"$f":"IF(A1=1,F1,IF(A1=2,F2,IF(A1=3,F3,IF(A1=4,F4,IF(A1=5,F5,IF(A1=6,F6,IF(A1=7,F7,IF(A1=8,F8,IF(A1=9,F9,IF(A1=10,F10,IF(A1=11,F11,IF(A1=12,F12))))))))))))","v":43350},null,{"$f":"IF(A1=1,H1,IF(A1=2,H2,IF(A1=3,H3,IF(A1=4,H4,IF(A1=5,H5,IF(A1=6,H6,IF(A1=7,H7,IF(A1=8,H8,IF(A1=9,H9,IF(A1=10,H10,IF(A1=11,H11,IF(A1=12,H12))))))))))))","v":1051.6666666666667},null,{"$f":"IF(A1=1,J1,IF(A1=2,J2,IF(A1=3,J3,IF(A1=4,J4,IF(A1=5,J5,IF(A1=6,J6,IF(A1=7,J7,IF(A1=8,J8,IF(A1=9,J9,IF(A1=10,J10,IF(A1=11,J11,IF(A1=12,J12))))))))))))","v":750},null,{"$f":"IF(A1=1,L1,IF(A1=2,L2,IF(A1=3,L3,IF(A1=4,L4,IF(A1=5,L5,IF(A1=6,L6,IF(A1=7,L7,IF(A1=8,L8,IF(A1=9,L9,IF(A1=10,L10,IF(A1=11,L11,IF(A1=12,L12))))))))))))","v":1147.5}]
[null,null,null,null,"รายได้สะสม",null,"ภาษีสะสม",null,"ประกันสังคมสะสม",null,"กองทุนสะสม"]
["Limit ให้","100","คน"]
[]
[]
[1,"2","3","4","5","6","7","8","9","10","11","12","13","14","15","16","17","18","19","20","21","22","23","24","25","26","27","28","29","30","31","32","33","34","35","36","37","38","39","40","41"]
["a1","b1","c1","d1","e1","f1","g1","h1","i1","j1","k1","l1","m1","n1","o1","p1","q1","r1","s1","t1","u1","v1","w1","x1","y1","z1","aa1","ab1","ac1","ad1","ae1","af1","ag1","ah1","ai1","aj1","ak1","al1","am1","an1","ao1"]
[{"$f":"INDIRECT(\"'\"&DuenTee&\"'!\"&A20)","v":"ลำดับที่"},"เลขประจำตัว","คำนำหน้า","ชื่อ",{"$f":"INDIRECT(\"'\"&DuenTee&\"'!\"&E20)","v":"นามสกุล"},"ตำแหน่ง","เลขที่บัญชี","วันที่เข้างาน","เงินเดือน","OT(จำนวนเงิน)","Commission","ค่าเบี้ยขยัน","ค่าเบี้ยเลี้ยง","ค่าโทรศัพท์","ค่าเดินทาง/ค่าพาหนะ","เงินโบนัส","อื่นๆ","Column2","รวมรายรับ","ประกันสังคม","ภาษี","หักเข้ากองทุน%","กองทุนสำรองเลี้ยงชีพ","หักเบิกล่วงหน้า","อื่นๆ","เปลี่ยนได้ z","เปลี่ยนได้ aa","เปลี่ยนได้ ab","เปลี่ยนได้ ac","รวมจ่าย(ก่อนหักภาษี)","รวมรายการหัก","รายได้สุทธิ","ลดหย่อนรวมสุทธิ","ลดหย่อนรวม","ค่าใช้จ่ายเหมา 50%","หักค่าลดหย่อนส่วนตัว","ประกันสังคม9","ลดหย่อนพ่อแม่","ลดหย่อนลูก","ค่าเบี้ยประกัน","ดอกเบี้ยบ้าน"]
[{"$f":"VLOOKUP(No,INDIRECT(\"'\"&DuenTee&\"'!\"&\"$A$2:$AE$501\"),A19,0)","v":1},{"$f":"VLOOKUP(No,INDIRECT(\"'\"&DuenTee&\"'!\"&\"$A$2:$AE$501\"),B19,0)","v":63001},{"$f":"IF(VLOOKUP(No,INDIRECT(\"'\"&DuenTee&\"'!\"&\"$A$2:$AE$501\"),C19,0)=\"\",\"\",VLOOKUP(No,INDIRECT(\"'\"&DuenTee&\"'!\"&\"$A$2:$AE$501\"),C19,0))","v":"นาย"},{"$f":"VLOOKUP(No,INDIRECT(\"'\"&DuenTee&\"'!\"&\"$A$2:$AE$501\"),D19,0)","v":"กฤษฎา"},{"$f":"IF(VLOOKUP(No,INDIRECT(\"'\"&DuenTee&\"'!\"&\"$A$2:$AE$501\"),E19,0)=\"\",\"\",VLOOKUP(No,INDIRECT(\"'\"&DuenTee&\"'!\"&\"$A$2:$AE$501\"),E19,0))","v":"เจริญดี"},{"$f":"VLOOKUP(No,INDIRECT(\"'\"&DuenTee&\"'!\"&\"$A$2:$AE$501\"),F19,0)","v":"หัวหน้าการเงิน"},"0452115508","2005-02-01",38250,2800,1500,800,{"$f":"VLOOKUP(No,INDIRECT(\"'\"&DuenTee&\"'!\"&\"$A$2:$AE$501\"),M19,0)","v":0},0,0,0,0,0,43350,750,1051.6666666666667,0.03,1147.5,0,1500,1,2,3,4,3407.5,{"$f":"VLOOKUP(No,INDIRECT(\"'\"&DuenTee&\"'!\"&\"$A$2:$Az$501\"),AE19,0)","v":4459.166666666667},38890.833333333336,351200,169000,100000,60000,9000,0,0,0,0]
[null,{"$f":"B21&\"  \"&B22","v":"เลขประจำตัว  63001"},null,{"$f":"D21&\"  \"&D22&\"  \"&E22","v":"ชื่อ  กฤษฎา  เจริญดี"}]

{"sheet":"Print","index":2,"n_rows":8,"n_cols":6,"rows_kept":8,"cut":false,"hidden":false,"merged":[]}
["1"]
[null,null,"เดือน",{"$f":"VLOOKUP(C4,TblMonthData,2,0)&\" \"&Print!C5","v":"มกราคม 2567"}]
["วันที่ออกเงินเดือน",null,"28 มกราคม 2567",null,"แสดงตัวอย่างลำดับที่",1]
["ประจำงวดเดือน",null,{"$f":"A1+0","v":1},null,"เลขประจำตัว",{"$f":"IFERROR(Sheet1!B22,\"No Data\")","v":63001}]
["ปี",null,"2567",null,"ชื่อ",{"$f":"IFERROR(Sheet1!C22&Sheet1!D22&\" \"&Sheet1!E22,\"No Data\")","v":"นายกฤษฎา เจริญดี"}]
["จำนวนพนักงานทั้งหมด",null,{"$f":"VLOOKUP(C4,TblMonthData,3,0)","v":4},null,"ตำแหน่ง",{"$f":"IFERROR(Sheet1!F22,\"No Data\")","v":"หัวหน้าการเงิน"}]
["เริ่มพิมพ์จากลำดับที่",null,1,null,"เงินเดือน",{"$f":"IFERROR(Sheet1!I22,\"No Data\")","v":38250}]
["สิ้นสุดการพิมพ์ลำดับที่",null,2,null,"รายได้สุทธิ",{"$f":"IFERROR(Sheet1!AF22,\"No Data\")","v":38890.833333333336}]

{"sheet":"1","index":3,"n_rows":5,"n_cols":42,"rows_kept":5,"cut":false,"hidden":false,"merged":[]}
["ลำดับที่","เลขประจำตัว","คำนำหน้า","ชื่อ","นามสกุล","ตำแหน่ง","เลขที่บัญชี","วันที่เข้างาน","เงินเดือน","OT(จำนวนเงิน)","Commission","ค่าเบี้ยขยัน","ค่าเบี้ยเลี้ยง","ค่าโทรศัพท์","ค่าเดินทาง/ค่าพาหนะ","เงินโบนัส","อื่นๆ","Column2","รวมรายรับ","ประกันสังคม","ภาษี","หักเข้ากองทุน%","กองทุนสำรองเลี้ยงชีพ","หักเบิกล่วงหน้า","อื่นๆ","เปลี่ยนได้ z","เปลี่ยนได้ aa","เปลี่ยนได้ ab","เปลี่ยนได้ ac","รวมจ่าย(ก่อนหักภาษี)","รวมรายการหัก","รายได้สุทธิ","ลดหย่อนรวมสุทธิ","ลดหย่อนรวม","ค่าใช้จ่ายเหมา 50%","หักค่าลดหย่อนส่วนตัว","ประกันสังคม9","ลดหย่อนพ่อแม่","ลดหย่อนลูก","ค่าเบี้ยประกัน","ดอกเบี้ยบ้าน","เพิ่มได้จนถึง AZ"]
[1,63001,"นาย","กฤษฎา","เจริญดี","หัวหน้าการเงิน","0452115508","2005-02-01",38250,2800,1500,800,0,0,0,0,null,null,{"$f":"SUM(Table4[[#This Row],[Column9]:[Column18]])","v":43350},{"$f":"ROUND(IF(I2>15000,15000*5%,I2*5%),0)","v":750},{"$f":"TaxCal(S2,AG2)","v":1051.6666666666667},0.03,{"$f":"Table4[[#This Row],[Column22]]*Table4[[#This Row],[Column9]]","v":1147.5},null,1500,1,2,3,4,{"$f":"T2+W2+X2+Y2+Z2+AA2+AB2+AC2","v":3407.5},{"$f":"AD2+U2","v":4459.166666666667},{"$f":"S2-AE2","v":38890.833333333336},{"$f":"IF((S2*12)-(SUM(AI2:BB2))<=0,0,(S2*12)-(SUM(AI2:BB2)))","v":351200},{"$f":"SUM(AI2:BA2)","v":169000},{"$f":"IF(((I2*12)/2)>100000,100000,(I2*12)/2)","v":100000},60000,{"$f":"Table4[[#This Row],[Column20]]*12","v":9000}]
[2,63002,"นาย","รุจิกร","พึ่งความสุข","หัวหน้าโปรดิวเชอร์","7522086392","2000-05-01",32120,0,null,null,null,null,null,null,null,null,{"$f":"SUM(Table4[[#This Row],[Column9]:[Column18]])","v":32120},750,{"$f":"TaxCal(S3,AG3)","v":276.83333333333337},0.02,{"$f":"Table4[[#This Row],[Column22]]*Table4[[#This Row],[Column9]]","v":642.4},null,null,null,null,null,null,1392.4,1669.2333333333336,30450.766666666666,{"$f":"IF((S3*12)-(SUM(AI3:BB3))<=0,0,(S3*12)-(SUM(AI3:BB3)))","v":216440},169000,{"$f":"IF(((I3*12)/2)>100000,100000,(I3*12)/2)","v":100000},60000,{"$f":"Table4[[#This Row],[Column20]]*12","v":9000}]
[3,63003,"นาย","วีรชน","สุขดี","โปรดิวเซอร์","0452951541","2016-11-01",53200,0,null,null,null,null,null,null,null,null,{"$f":"SUM(Table4[[#This Row],[Column9]:[Column18]])","v":53200},750,2036.6666666666667,null,{"$f":"Table4[[#This Row],[Column22]]*Table4[[#This Row],[Column9]]","v":0},null,null,null,null,null,null,750,2786.666666666667,50413.333333333336,469400,169000,100000,60000,{"$f":"Table4[[#This Row],[Column20]]*12","v":9000}]
[4,"64001","นส.","ผุสดี","มั่งมีศรีสุข","บัญชี","0322931929","2020-12-18",29000,null,null,null,null,null,null,null,null,null,{"$f":"SUM(Table4[[#This Row],[Column9]:[Column18]])","v":29000},750,null,0.01,{"$f":"Table4[[#This Row],[Column22]]*Table4[[#This Row],[Column9]]","v":290},null,null,null,null,null,null,1040,1040,27960,{"$f":"IF((S5*12)-(SUM(AI5:BB5))<=0,0,(S5*12)-(SUM(AI5:BB5)))","v":179000},169000,100000,60000,{"$f":"Table4[[#This Row],[Column20]]*12","v":9000}]

{"sheet":"2","index":4,"n_rows":0,"n_cols":0,"rows_kept":0,"cut":false,"hidden":false,"merged":[]}

{"sheet":"3","index":5,"n_rows":0,"n_cols":0,"rows_kept":0,"cut":false,"hidden":false,"merged":[]}

{"sheet":"4","index":6,"n_rows":0,"n_cols":0,"rows_kept":0,"cut":false,"hidden":false,"merged":[]}

{"sheet":"5","index":7,"n_rows":0,"n_cols":0,"rows_kept":0,"cut":false,"hidden":false,"merged":[]}

{"sheet":"6","index":8,"n_rows":0,"n_cols":0,"rows_kept":0,"cut":false,"hidden":false,"merged":[]}

{"sheet":"7","index":9,"n_rows":0,"n_cols":0,"rows_kept":0,"cut":false,"hidden":false,"merged":[]}

{"sheet":"8","index":10,"n_rows":0,"n_cols":0,"rows_kept":0,"cut":false,"hidden":false,"merged":[]}

{"sheet":"9","index":11,"n_rows":0,"n_cols":0,"rows_kept":0,"cut":false,"hidden":false,"merged":[]}

{"sheet":"10","index":12,"n_rows":0,"n_cols":0,"rows_kept":0,"cut":false,"hidden":false,"merged":[]}

{"sheet":"11","index":13,"n_rows":0,"n_cols":0,"rows_kept":0,"cut":false,"hidden":false,"merged":[]}

{"sheet":"12","index":14,"n_rows":0,"n_cols":0,"rows_kept":0,"cut":false,"hidden":false,"merged":[]}

{"sheet":"คู่มือ","index":15,"n_rows":0,"n_cols":0,"rows_kept":0,"cut":false,"hidden":false,"merged":[]}