{"text_format":"1","workbook":"xlsx","n_sheets":29,"sheets":["Form","Form (2)","Print","Sheet1","คู่มือ","1","2","3","4","5","6","7","8","9","10","11","12","13","14","15","16","17","18","19","20","21","22","23","24"],"not_rendered":{"charts":0,"images":4,"macros":1,"external_links":0,"defined_names":23,"comments":2,"pivot_tables":0},"unopened":[],"bounds":{"document_bytes":16777216,"sheet_cells":100000,"rows_first":2000,"rows_last":500,"rows_between":2000,"halvings":0,"cell_chars":16384,"cell_head_chars":4096},"cells_cut":0,"cells_raw":0,"read":"whole","date_system":"1900"}

{"sheet":"Form","index":0,"n_rows":22,"n_cols":9,"rows_kept":22,"cut":false,"hidden":false,"merged":[[4,4,4,7],[21,8,21,9]]}
[]
[]
[]
[]
[]
[]
[]
[]
[]
[]
[]
[]
[]
[]
[]
[]
[]
[]
[]
[null,null,null,null,null,null,null,null,"…................................"]
[]
[null,null,null,null,null,null,null,null,"ลายเซ็นต์พนักงาน"]

{"sheet":"Form (2)","index":1,"n_rows":0,"n_cols":0,"rows_kept":0,"cut":false,"hidden":true,"merged":[]}

{"sheet":"Print","index":2,"n_rows":10,"n_cols":6,"rows_kept":10,"cut":false,"hidden":false,"merged":[]}
["1",null,{"$f":"VLOOKUP(C5,TblMonthPeriod,2,0)&\"  \"&  VLOOKUP(C5,TblMonthPeriod,3,0)   &\"  \"&Print!C6","v":"1-15  มกราคม  2565"},null,{"$f":"VLOOKUP(C5,TblMonth12,2,0)&\" \"&Print!C6","v":"มกราคม 2565"}]
["เดือน",null,{"$f":"VLOOKUP(C5,TblMonthPeriod,2,0)&\"  \"&  VLOOKUP(C5,TblMonthPeriod,3,0)   &\"  \"&Print!C6","v":"1-15  มกราคม  2565"},null,null,"( แบบจ่าย 2 งวด / เดือน)"]
[]
["วันที่จ่าย",null,"16 กุมภาพันธ์ 2565",null,"แสดงตัวอย่างลำดับที่",1]
["ประจำงวดเดือน",null,{"$f":"A1+0","v":1}]
["ปี(เปลี่ยนเป็นปีปัจุบัน)",null,"2565",null,"เลขประจำตัว",{"$f":"IFERROR(Sheet1!B38,\"No Data\")","v":63001}]
["จำนวนพนักงานทั้งหมด",null,{"$f":"VLOOKUP(C5,TblMonthData,3,0)","v":11},null,"ชื่อ",{"$f":"IFERROR(Sheet1!C38&Sheet1!D38&\" \"&Sheet1!E38,\"No Data\")","v":"นางณเดชน์ วงษ์พันธ์"}]
["เริ่มพิมพ์จากลำดับที่",null,1,null,"ตำแหน่ง",{"$f":"IFERROR(Sheet1!G38,\"No Data\")","v":"เจ้าหน้าที่อาวุโส"}]
["สิ้นสุดการพิมพ์ลำดับที่",null,1,null,"เงินเดือน",{"$f":"IFERROR(Sheet1!N38,\"No Data\")","v":10000}]
[null,null,null,null,"รับสุทธิ",{"$f":"IFERROR(Sheet1!AV38,\"No Data\")","v":10504.166666666666}]

{"sheet":"Sheet1","index":3,"n_rows":70,"n_cols":67,"rows_kept":70,"cut":false,"hidden":true,"merged":[]}
[{"$f":"DuenTee","v":1},1,"มกราคม",{"$f":"IFERROR(COUNT('1'!A:A),0)","v":11},{"$f":"IFERROR(VLOOKUP(EmpID,'1'!$B:$AS,32,0),0)","v":11254.166666666666},{"$f":"E1","v":11254.166666666666},{"$f":"IFERROR(VLOOKUP(EmpID,'1'!$B:$AI,34,0),0)","v":0},{"$f":"G1","v":0},{"$f":"IFERROR(VLOOKUP(EmpID,'1'!$B:$AH,33,0),0)","v":500},{"$f":"I1","v":500},{"$f":"IFERROR(VLOOKUP(EmpID,'1'!$B:$AJ,35,0),0)","v":0},{"$f":"K1","v":0}]
[{"$f":"No","v":1},2,"มกราคม",{"$f":"IFERROR(COUNT('2'!A:A),0)","v":0},{"$f":"IFERROR(VLOOKUP(EmpID,'2'!$B:$AS,32,0),0)","v":0},{"$f":"IF(E2>0,SUM(E$1:$E2),0)","v":0},{"$f":"IFERROR(VLOOKUP(EmpID,'2'!$B:$AI,34,0),0)","v":0},{"$f":"IF(G2>0,SUM(G$1:$G2),0)","v":0},{"$f":"IFERROR(VLOOKUP(EmpID,'2'!$B:$AH,33,0),0)","v":0},{"$f":"IF(I2>0,SUM(I$1:$I2),0)","v":0},{"$f":"IFERROR(VLOOKUP(EmpID,'2'!$B:$AJ,35,0),0)","v":0},{"$f":"IF(K2>0,SUM($K$1:K2),0)","v":0}]
[{"$f":"EmpID","v":63001},3,"กุมภาพันธ์",{"$f":"IFERROR(COUNT('3'!A:A),0)","v":0},{"$f":"IFERROR(VLOOKUP(EmpID,'3'!$B:$AS,32,0),0)","v":0},{"$f":"IF(E3>0,SUM(E$1:$E3),0)","v":0},{"$f":"IFERROR(VLOOKUP(EmpID,'3'!$B:$AI,34,0),0)","v":0},{"$f":"IF(G3>0,SUM(G$1:$G3),0)","v":0},{"$f":"IFERROR(VLOOKUP(EmpID,'3'!$B:$AH,33,0),0)","v":0},{"$f":"IF(I3>0,SUM(I$1:$I3),0)","v":0},{"$f":"IFERROR(VLOOKUP(EmpID,'3'!$B:$AJ,35,0),0)","v":0},{"$f":"IF(K3>0,SUM($K$1:K3),0)","v":0}]
[null,4,"กุมภาพันธ์",{"$f":"IFERROR(COUNT('4'!A:A),0)","v":0},{"$f":"IFERROR(VLOOKUP(EmpID,'4'!$B:$AS,32,0),0)","v":0},{"$f":"IF(E4>0,SUM(E$1:$E4),0)","v":0},{"$f":"IFERROR(VLOOKUP(EmpID,'4'!$B:$AI,34,0),0)","v":0},{"$f":"IF(G4>0,SUM(G$1:$G4),0)","v":0},{"$f":"IFERROR(VLOOKUP(EmpID,'4'!$B:$AH,33,0),0)","v":0},{"$f":"IF(I4>0,SUM(I$1:$I4),0)","v":0},{"$f":"IFERROR(VLOOKUP(EmpID,'4'!$B:$AJ,35,0),0)","v":0},{"$f":"IF(K4>0,SUM($K$1:K4),0)","v":0}]
[null,5,"มีนาคม",{"$f":"IFERROR(COUNT('5'!A:A),0)","v":0},{"$f":"IFERROR(VLOOKUP(EmpID,'5'!$B:$AS,32,0),0)","v":0},{"$f":"IF(E5>0,SUM(E$1:$E5),0)","v":0},{"$f":"IFERROR(VLOOKUP(EmpID,'5'!$B:$AI,34,0),0)","v":0},{"$f":"IF(G5>0,SUM(G$1:$G5),0)","v":0},{"$f":"IFERROR(VLOOKUP(EmpID,'5'!$B:$AH,33,0),0)","v":0},{"$f":"IF(I5>0,SUM(I$1:$I5),0)","v":0},{"$f":"IFERROR(VLOOKUP(EmpID,'5'!$B:$AJ,35,0),0)","v":0},{"$f":"IF(K5>0,SUM($K$1:K5),0)","v":0}]
[null,6,"มีนาคม",{"$f":"IFERROR(COUNT('6'!A:A),0)","v":0},{"$f":"IFERROR(VLOOKUP(EmpID,'6'!$B:$AS,32,0),0)","v":0},{"$f":"IF(E6>0,SUM(E$1:$E6),0)","v":0},{"$f":"IFERROR(VLOOKUP(EmpID,'6'!$B:$AI,34,0),0)","v":0},{"$f":"IF(G6>0,SUM(G$1:$G6),0)","v":0},{"$f":"IFERROR(VLOOKUP(EmpID,'6'!$B:$AH,33,0),0)","v":0},{"$f":"IF(I6>0,SUM(I$1:$I6),0)","v":0},{"$f":"IFERROR(VLOOKUP(EmpID,'6'!$B:$AJ,35,0),0)","v":0},{"$f":"IF(K6>0,SUM($K$1:K6),0)","v":0}]
[null,7,"เมษายน",{"$f":"IFERROR(COUNT('7'!A:A),0)","v":0},{"$f":"IFERROR(VLOOKUP(EmpID,'7'!$B:$AS,32,0),0)","v":0},{"$f":"IF(E7>0,SUM(E$1:$E7),0)","v":0},{"$f":"IFERROR(VLOOKUP(EmpID,'7'!$B:$AI,34,0),0)","v":0},{"$f":"IF(G7>0,SUM(G$1:$G7),0)","v":0},{"$f":"IFERROR(VLOOKUP(EmpID,'7'!$B:$AH,33,0),0)","v":0},{"$f":"IF(I7>0,SUM(I$1:$I7),0)","v":0},{"$f":"IFERROR(VLOOKUP(EmpID,'7'!$B:$AJ,35,0),0)","v":0},{"$f":"IF(K7>0,SUM($K$1:K7),0)","v":0}]
[null,8,"เมษายน",{"$f":"IFERROR(COUNT('8'!A:A),0)","v":0},{"$f":"IFERROR(VLOOKUP(EmpID,'8'!$B:$AS,32,0),0)","v":0},{"$f":"IF(E8>0,SUM(E$1:$E8),0)","v":0},{"$f":"IFERROR(VLOOKUP(EmpID,'8'!$B:$AI,34,0),0)","v":0},{"$f":"IF(G8>0,SUM(G$1:$G8),0)","v":0},{"$f":"IFERROR(VLOOKUP(EmpID,'8'!$B:$AH,33,0),0)","v":0},{"$f":"IF(I8>0,SUM(I$1:$I8),0)","v":0},{"$f":"IFERROR(VLOOKUP(EmpID,'8'!$B:$AJ,35,0),0)","v":0},{"$f":"IF(K8>0,SUM($K$1:K8),0)","v":0}]
[null,9,"พฤษภาคม",{"$f":"IFERROR(COUNT('9'!A:A),0)","v":0},{"$f":"IFERROR(VLOOKUP(EmpID,'9'!$B:$AS,32,0),0)","v":0},{"$f":"IF(E9>0,SUM(E$1:$E9),0)","v":0},{"$f":"IFERROR(VLOOKUP(EmpID,'9'!$B:$AI,34,0),0)","v":0},{"$f":"IF(G9>0,SUM(G$1:$G9),0)","v":0},{"$f":"IFERROR(VLOOKUP(EmpID,'9'!$B:$AH,33,0),0)","v":0},{"$f":"IF(I9>0,SUM(I$1:$I9),0)","v":0},{"$f":"IFERROR(VLOOKUP(EmpID,'9'!$B:$AJ,35,0),0)","v":0},{"$f":"IF(K9>0,SUM($K$1:K9),0)","v":0}]
[null,10,"พฤษภาคม",{"$f":"IFERROR(COUNT('10'!A:A),0)","v":0},{"$f":"IFERROR(VLOOKUP(EmpID,'10'!$B:$AS,32,0),0)","v":0},{"$f":"IF(E10>0,SUM(E$1:$E10),0)","v":0},{"$f":"IFERROR(VLOOKUP(EmpID,'10'!$B:$AI,34,0),0)","v":0},{"$f":"IF(G10>0,SUM(G$1:$G10),0)","v":0},{"$f":"IFERROR(VLOOKUP(EmpID,'10'!$B:$AH,33,0),0)","v":0},{"$f":"IF(I10>0,SUM(I$1:$I10),0)","v":0},{"$f":"IFERROR(VLOOKUP(EmpID,'10'!$B:$AJ,35,0),0)","v":0},{"$f":"IF(K10>0,SUM($K$1:K10),0)","v":0}]
[null,11,"มิถุนายน",{"$f":"IFERROR(COUNT('11'!A:A),0)","v":0},{"$f":"IFERROR(VLOOKUP(EmpID,'11'!$B:$AS,32,0),0)","v":0},{"$f":"IF(E11>0,SUM(E$1:$E11),0)","v":0},{"$f":"IFERROR(VLOOKUP(EmpID,'11'!$B:$AI,34,0),0)","v":0},{"$f":"IF(G11>0,SUM(G$1:$G11),0)","v":0},{"$f":"IFERROR(VLOOKUP(EmpID,'11'!$B:$AH,33,0),0)","v":0},{"$f":"IF(I11>0,SUM(I$1:$I11),0)","v":0},{"$f":"IFERROR(VLOOKUP(EmpID,'11'!$B:$AJ,35,0),0)","v":0},{"$f":"IF(K11>0,SUM($K$1:K11),0)","v":0}]
[null,12,"มิถุนายน",{"$f":"IFERROR(COUNT('12'!A:A),0)","v":0},{"$f":"IFERROR(VLOOKUP(EmpID,'12'!$B:$AS,32,0),0)","v":0},{"$f":"IF(E12>0,SUM(E$1:$E12),0)","v":0},{"$f":"IFERROR(VLOOKUP(EmpID,'12'!$B:$AI,34,0),0)","v":0},{"$f":"IF(G12>0,SUM(G$1:$G12),0)","v":0},{"$f":"IFERROR(VLOOKUP(EmpID,'12'!$B:$AH,33,0),0)","v":0},{"$f":"IF(I12>0,SUM(I$1:$I12),0)","v":0},{"$f":"IFERROR(VLOOKUP(EmpID,'12'!$B:$AJ,35,0),0)","v":0},{"$f":"IF(K12>0,SUM($K$1:K12),0)","v":0}]
[null,13,"กรกฎาคม",0,{"$f":"IFERROR(VLOOKUP(EmpID,#REF!,32,0),0)","v":0},{"$f":"IF(E13>0,SUM(E$1:$E13),0)","v":0},{"$f":"IFERROR(VLOOKUP(EmpID,#REF!,34,0),0)","v":0},{"$f":"IF(G13>0,SUM(G$1:$G13),0)","v":0},{"$f":"IFERROR(VLOOKUP(EmpID,#REF!,33,0),0)","v":0},{"$f":"IF(I13>0,SUM(I$1:$I13),0)","v":0},{"$f":"IFERROR(VLOOKUP(EmpID,#REF!,35,0),0)","v":0},{"$f":"IF(K13>0,SUM($K$1:K13),0)","v":0}]
[null,14,"กรกฎาคม",0,{"$f":"IFERROR(VLOOKUP(EmpID,#REF!,32,0),0)","v":0},{"$f":"IF(E14>0,SUM(E$1:$E14),0)","v":0},{"$f":"IFERROR(VLOOKUP(EmpID,#REF!,34,0),0)","v":0},{"$f":"IF(G14>0,SUM(G$1:$G14),0)","v":0},{"$f":"IFERROR(VLOOKUP(EmpID,#REF!,33,0),0)","v":0},{"$f":"IF(I14>0,SUM(I$1:$I14),0)","v":0},{"$f":"IFERROR(VLOOKUP(EmpID,#REF!,35,0),0)","v":0},{"$f":"IF(K14>0,SUM($K$1:K14),0)","v":0}]
[null,15,"สิงหาคม",0,{"$f":"IFERROR(VLOOKUP(EmpID,#REF!,32,0),0)","v":0},{"$f":"IF(E15>0,SUM(E$1:$E15),0)","v":0},{"$f":"IFERROR(VLOOKUP(EmpID,#REF!,34,0),0)","v":0},{"$f":"IF(G15>0,SUM(G$1:$G15),0)","v":0},{"$f":"IFERROR(VLOOKUP(EmpID,#REF!,33,0),0)","v":0},{"$f":"IF(I15>0,SUM(I$1:$I15),0)","v":0},{"$f":"IFERROR(VLOOKUP(EmpID,#REF!,35,0),0)","v":0},{"$f":"IF(K15>0,SUM($K$1:K15),0)","v":0}]
[null,16,"สิงหาคม",0,{"$f":"IFERROR(VLOOKUP(EmpID,#REF!,32,0),0)","v":0},{"$f":"IF(E16>0,SUM(E$1:$E16),0)","v":0},{"$f":"IFERROR(VLOOKUP(EmpID,#REF!,34,0),0)","v":0},{"$f":"IF(G16>0,SUM(G$1:$G16),0)","v":0},{"$f":"IFERROR(VLOOKUP(EmpID,#REF!,33,0),0)","v":0},{"$f":"IF(I16>0,SUM(I$1:$I16),0)","v":0},{"$f":"IFERROR(VLOOKUP(EmpID,#REF!,35,0),0)","v":0},{"$f":"IF(K16>0,SUM($K$1:K16),0)","v":0}]
[null,17,"กันยายน",0,{"$f":"IFERROR(VLOOKUP(EmpID,#REF!,32,0),0)","v":0},{"$f":"IF(E17>0,SUM(E$1:$E17),0)","v":0},{"$f":"IFERROR(VLOOKUP(EmpID,#REF!,34,0),0)","v":0},{"$f":"IF(G17>0,SUM(G$1:$G17),0)","v":0},{"$f":"IFERROR(VLOOKUP(EmpID,#REF!,33,0),0)","v":0},{"$f":"IF(I17>0,SUM(I$1:$I17),0)","v":0},{"$f":"IFERROR(VLOOKUP(EmpID,#REF!,35,0),0)","v":0},{"$f":"IF(K17>0,SUM($K$1:K17),0)","v":0}]
[null,18,"กันยายน",0,{"$f":"IFERROR(VLOOKUP(EmpID,#REF!,32,0),0)","v":0},{"$f":"IF(E18>0,SUM(E$1:$E18),0)","v":0},{"$f":"IFERROR(VLOOKUP(EmpID,#REF!,34,0),0)","v":0},{"$f":"IF(G18>0,SUM(G$1:$G18),0)","v":0},{"$f":"IFERROR(VLOOKUP(EmpID,#REF!,33,0),0)","v":0},{"$f":"IF(I18>0,SUM(I$1:$I18),0)","v":0},{"$f":"IFERROR(VLOOKUP(EmpID,#REF!,35,0),0)","v":0},{"$f":"IF(K18>0,SUM($K$1:K18),0)","v":0}]
[null,19,"ตุลาคม",0,{"$f":"IFERROR(VLOOKUP(EmpID,#REF!,32,0),0)","v":0},{"$f":"IF(E19>0,SUM(E$1:$E19),0)","v":0},{"$f":"IFERROR(VLOOKUP(EmpID,#REF!,34,0),0)","v":0},{"$f":"IF(G19>0,SUM(G$1:$G19),0)","v":0},{"$f":"IFERROR(VLOOKUP(EmpID,#REF!,33,0),0)","v":0},{"$f":"IF(I19>0,SUM(I$1:$I19),0)","v":0},{"$f":"IFERROR(VLOOKUP(EmpID,#REF!,35,0),0)","v":0},{"$f":"IF(K19>0,SUM($K$1:K19),0)","v":0}]
[null,20,"ตุลาคม",0,{"$f":"IFERROR(VLOOKUP(EmpID,#REF!,32,0),0)","v":0},{"$f":"IF(E20>0,SUM(E$1:$E20),0)","v":0},{"$f":"IFERROR(VLOOKUP(EmpID,#REF!,34,0),0)","v":0},{"$f":"IF(G20>0,SUM(G$1:$G20),0)","v":0},{"$f":"IFERROR(VLOOKUP(EmpID,#REF!,33,0),0)","v":0},{"$f":"IF(I20>0,SUM(I$1:$I20),0)","v":0},{"$f":"IFERROR(VLOOKUP(EmpID,#REF!,35,0),0)","v":0},{"$f":"IF(K20>0,SUM($K$1:K20),0)","v":0}]
[null,21,"พฤศจิกายน",0,{"$f":"IFERROR(VLOOKUP(EmpID,#REF!,32,0),0)","v":0},{"$f":"IF(E21>0,SUM(E$1:$E21),0)","v":0},{"$f":"IFERROR(VLOOKUP(EmpID,#REF!,34,0),0)","v":0},{"$f":"IF(G21>0,SUM(G$1:$G21),0)","v":0},{"$f":"IFERROR(VLOOKUP(EmpID,#REF!,33,0),0)","v":0},{"$f":"IF(I21>0,SUM(I$1:$I21),0)","v":0},{"$f":"IFERROR(VLOOKUP(EmpID,#REF!,35,0),0)","v":0},{"$f":"IF(K21>0,SUM($K$1:K21),0)","v":0}]
[null,22,"พฤศจิกายน",0,{"$f":"IFERROR(VLOOKUP(EmpID,#REF!,32,0),0)","v":0},{"$f":"IF(E22>0,SUM(E$1:$E22),0)","v":0},{"$f":"IFERROR(VLOOKUP(EmpID,#REF!,34,0),0)","v":0},{"$f":"IF(G22>0,SUM(G$1:$G22),0)","v":0},{"$f":"IFERROR(VLOOKUP(EmpID,#REF!,33,0),0)","v":0},{"$f":"IF(I22>0,SUM(I$1:$I22),0)","v":0},{"$f":"IFERROR(VLOOKUP(EmpID,#REF!,35,0),0)","v":0},{"$f":"IF(K22>0,SUM($K$1:K22),0)","v":0}]
[null,23,"ธันวาคม",0,{"$f":"IFERROR(VLOOKUP(EmpID,#REF!,32,0),0)","v":0},{"$f":"IF(E23>0,SUM(E$1:$E23),0)","v":0},{"$f":"IFERROR(VLOOKUP(EmpID,#REF!,34,0),0)","v":0},{"$f":"IF(G23>0,SUM(G$1:$G23),0)","v":0},{"$f":"IFERROR(VLOOKUP(EmpID,#REF!,33,0),0)","v":0},{"$f":"IF(I23>0,SUM(I$1:$I23),0)","v":0},{"$f":"IFERROR(VLOOKUP(EmpID,#REF!,35,0),0)","v":0},{"$f":"IF(K23>0,SUM($K$1:K23),0)","v":0}]
[null,24,"ธันวาคม",0,{"$f":"IFERROR(VLOOKUP(EmpID,#REF!,32,0),0)","v":0},{"$f":"IF(E24>0,SUM(E$1:$E24),0)","v":0},{"$f":"IFERROR(VLOOKUP(EmpID,#REF!,34,0),0)","v":0},{"$f":"IF(G24>0,SUM(G$1:$G24),0)","v":0},{"$f":"IFERROR(VLOOKUP(EmpID,#REF!,33,0),0)","v":0},{"$f":"IF(I24>0,SUM(I$1:$I24),0)","v":0},{"$f":"IFERROR(VLOOKUP(EmpID,#REF!,35,0),0)","v":0},{"$f":"IF(K24>0,SUM($K$1:K24),0)","v":0}]
[]
[null,null,null,null,{"$f":"IF(A1=1,F1,IF(A1=2,F2,IF(A1=3,F3,IF(A1=4,F4,IF(A1=5,F5,IF(A1=6,F6,IF(A1=7,F7,IF(A1=8,F8,IF(A1=9,F9,IF(A1=10,F10,IF(A1=11,F11,IF(A1=12,F12,IF(A1=13,F13,IF(A1=14,F14,IF(A1=15,F15,IF(A1=16,F16,IF(A1=17,F17,IF(A1=18,F18,IF(A1=19,F19,IF(A1=20,F20,IF(A1=21,F21,IF(A1=22,F22,IF(A1=23,F23,IF(A1=24,F24))))))))))))))))))))))))","v":11254.166666666666},null,{"$f":"IF(A1=1,H1,IF(A1=2,H2,IF(A1=3,H3,IF(A1=4,H4,IF(A1=5,H5,IF(A1=6,H6,IF(A1=7,H7,IF(A1=8,H8,IF(A1=9,H9,IF(A1=10,H10,IF(A1=11,H11,IF(A1=12,H12,IF(A1=13,H13,IF(A1=14,H14,IF(A1=15,H15,IF(A1=16,H16,IF(A1=17,H17,IF(A1=18,H18,IF(A1=19,H19,IF(A1=20,H20,IF(A1=21,H21,IF(A1=22,H22,IF(A1=23,H23,IF(A1=24,H24))))))))))))))))))))))))","v":0},null,{"$f":"IF(A1=1,J1,IF(A1=2,J2,IF(A1=3,J3,IF(A1=4,J4,IF(A1=5,J5,IF(A1=6,J6,IF(A1=7,J7,IF(A1=8,J8,IF(A1=9,J9,IF(A1=10,J10,IF(A1=11,J11,IF(A1=12,J12,IF(A1=13,J13,IF(A1=14,J14,IF(A1=15,J15,IF(A1=16,J16,IF(A1=17,J17,IF(A1=18,J18,IF(A1=19,J19,IF(A1=20,J20,IF(A1=21,J21,IF(A1=22,J22,IF(A1=23,J23,IF(A1=24,J24))))))))))))))))))))))))","v":500},null,{"$f":"IF(A1=1,L1,IF(A1=2,L2,IF(A1=3,L3,IF(A1=4,L4,IF(A1=5,L5,IF(A1=6,L6,IF(A1=7,L7,IF(A1=8,L8,IF(A1=9,L9,IF(A1=10,L10,IF(A1=11,L11,IF(A1=12,L12,IF(A1=13,L13,IF(A1=14,L14,IF(A1=15,L15,IF(A1=16,L16,IF(A1=17,L17,IF(A1=18,L18,IF(A1=19,L19,IF(A1=20,L20,IF(A1=21,L21,IF(A1=22,L22,IF(A1=23,L23,IF(A1=24,L24))))))))))))))))))))))))","v":0}]
[]
[]
[]
[]
[]
["Limit ให้","300","คน"]
[]
[]
[1,"2","3","4","5","6","7","8","9","10","11","12","13","14","15","16","17","18","19","20","21","22","23","24","25","26","27","28","29","30","31","32","33","34","35","36","37","38","39","40","41","42","43","44","45","46","47","48","49","50","51",52,"53",54,55,56,57,58,59,60,61,62,63,64,65,66,67]
["a1","b1","c1","d1","e1","f1","g1","h1","i1","j1","k1","l1","m1","n1","o1","p1","q1","r1","s1","t1","u1","v1","w1","x1","y1","z1","aa1","ab1","ac1","ad1","ae1","af1","ag1","ah1","ai1","aj1","ak1","al1","am1","an1","ao1","ap1","aq1","ar1","as1","at1","au1","av1","aw1","ax1","ay2","az2","ba1","bb1","bc1","bd1","be1","bf1","bg1","bh1","bi1","bj1","bk1","bl1","bm1","bn1","bo1"]
[{"$f":"INDIRECT(\"'\"&DuenTee&\"'!\"&A36)","v":"ลำดับที่"},"รหัสพนักงาน","คำนำหน้า","ชื่อ",{"$f":"INDIRECT(\"'\"&DuenTee&\"'!\"&E36)","v":"นามสกุล"},"แผนก","ตำแหน่ง","เลขที่บัญชี","วันที่เข้างาน",0,0,"ค่าแรง","จำนวนวันทำงาน","เงินเดือน/ค่าแรง","OT 1 เท่า (ชม.)",0,"OT 1.5 เท่า (ชม.)",0,"OT 2.0 เท่า (ชม.)",0,"OT 3.0 เท่า (ชม.)",0,"รวม OT","คอมมิสชั่น","เบี้ยขยัน","โบนัส","อื่นๆ ","เปลี่ยนได้2","เปลี่ยนได้3","เปลี่ยนได้4",0,0,"รวมรายได้","ประกันสังคม",{"$f":"INDIRECT(\"'\"&DuenTee&\"'!\"&AI36)","v":"ภาษี"},"กองทุนสำรองเลี้ยงชีพ","หักกองทุน %","กู้ยืม","สาย","อื่นๆ","xx","xxx","xxxx",0,"รวมรายการหัก(ไม่รวมภาษี)","รวมรายการหัก","เงินได้สุทธิ","เงินได้สุทธิ(หลังหักภาษี)","ลดหย่อนรวมสุทธิ","ลดหย่อนรวม",67525,60000,"ประกันสังคม","ลดหย่อนพ่อแม่","ลดหย่อนลูก","ค่าเบี้ยประกัน","ดอกเบี้ยบ้าน","เพิ่มได้จนถึง bo",0,0,0,0,0,0,0,0,0]
[{"$f":"VLOOKUP(No,INDIRECT(\"'\"&DuenTee&\"'!\"&\"$A$2:$AE$301\"),A35,0)","v":1},{"$f":"VLOOKUP(No,INDIRECT(\"'\"&DuenTee&\"'!\"&\"$A$2:$AE$301\"),B35,0)","v":63001},{"$f":"IF(VLOOKUP(No,INDIRECT(\"'\"&DuenTee&\"'!\"&\"$A$2:$AE$301\"),C35,0)=\"\",\"\",VLOOKUP(No,INDIRECT(\"'\"&DuenTee&\"'!\"&\"$A$2:$AE$301\"),C35,0))","v":"นาง"},{"$f":"VLOOKUP(No,INDIRECT(\"'\"&DuenTee&\"'!\"&\"$A$2:$AE$301\"),D35,0)","v":"ณเดชน์"},{"$f":"IF(VLOOKUP(No,INDIRECT(\"'\"&DuenTee&\"'!\"&\"$A$2:$AE$301\"),E35,0)=\"\",\"\",VLOOKUP(No,INDIRECT(\"'\"&DuenTee&\"'!\"&\"$A$2:$AE$301\"),E35,0))","v":"วงษ์พันธ์"},{"$f":"VLOOKUP(No,INDIRECT(\"'\"&DuenTee&\"'!\"&\"$A$2:$AE$301\"),F35,0)","v":"ธุรการ 总务"},"เจ้าหน้าที่อาวุโส","0652792944","2019-09-26",0,0,0,0,{"$f":"VLOOKUP(No,INDIRECT(\"'\"&DuenTee&\"'!\"&\"$A$2:$AE$3101\"),N35,0)","v":10000},{"$f":"VLOOKUP(No,INDIRECT(\"'\"&DuenTee&\"'!\"&\"$A$2:$AE$301\"),O35,0)","v":2},83.333333333333329,1,62.5,1,83.333333333333329,1,125,354.16666666666663,200,300,400,0,{"$f":"VLOOKUP(No,INDIRECT(\"'\"&DuenTee&\"'!\"&\"$A$2:$bq$301\"),AB35,0)","v":0},0,0,0,0,11254.166666666666,500,0,0,0,100,50,10,20,30,40,0,750,750,10504.166666666666,10504.166666666666,325,134725,67525,{"$f":"VLOOKUP(No,INDIRECT(\"'\"&DuenTee&\"'!\"&\"$A$2:$bq$301\"),BA35,0)","v":7200},{"$f":"VLOOKUP(No,INDIRECT(\"'\"&DuenTee&\"'!\"&\"$A$2:$bq$301\"),BB35,0)","v":0},{"$f":"VLOOKUP(No,INDIRECT(\"'\"&DuenTee&\"'!\"&\"$A$2:$bq$301\"),BB35,0)","v":0},0,0,0,0,0,0,0,0,0,0,0,0,0]
[null,null,null,null,null,null,null,null,null,null,null,null,null,null,null,null,null,null,null,null,null,{"$f":"P38+R38+T38+V38","v":354.16666666666663}]
["OT1",1]
["OT1.5",1.5]
["OT2",2]
["OT3",3]
[]
[]
[]
[1,"1-15","มกราคม"]
[2,"16-31","มกราคม"]
[3,"1-15","กุมภาพันธ์",null,1,"มกราคม"]
[4,"16-28,29","กุมภาพันธ์",null,2,"กุมภาพันธ์"]
[5,"1-15","มีนาคม",null,3,"มีนาคม"]
[6,"16-31","มีนาคม",null,4,"เมษายน"]
[7,"1-15","เมษายน",null,5,"พฤษภาคม"]
[8,"16-30","เมษายน",null,6,"มิถุนายน"]
[9,"1-15","พฤษภาคม",null,7,"กรกฎาคม"]
[10,"16-31","พฤษภาคม",null,8,"สิงหาคม"]
[11,"1-15","มิถุนายน",null,9,"กันยายน"]
[12,"16-30","มิถุนายน",null,10,"ตุลาคม"]
[13,"1-15","กรกฎาคม",null,11,"พฤศจิกายน"]
[14,"16-31","กรกฎาคม",null,12,"ธันวาคม"]
[15,"1-15","สิงหาคม"]
[16,"16-31","สิงหาคม"]
[17,"1-15","กันยายน"]
[18,"16-30","กันยายน"]
[19,"1-15","ตุลาคม"]
[20,"16-31","ตุลาคม"]
[21,"1-15","พฤศจิกายน"]
[22,"16-30","พฤศจิกายน"]
[23,"1-15","ธันวาคม"]
[24,"16-31"," ธันวาคม "]

{"sheet":"คู่มือ","index":4,"n_rows":41,"n_cols":2,"rows_kept":41,"cut":false,"hidden":false,"merged":[]}
[]
[]
[]
[]
[]
[]
[]
[]
[]
[]
[]
[]
[]
[]
[]
[]
[]
[]
[]
[]
[]
[]
[]
[]
[null,"โปรดทำตามคู่มือ และตรวจสอบความถูกต้องด้วยครับ"]
[]
[null,"--ตั้งค่าหน้ากระดาษตาม Video ด้านล่าง เพื่อกำหนดขนาดกระดาษ---"]
[null,"--- อย่าลืมเลือกหน้ากระดาษที่ตั้งก่อน print ด้วยนะครับ ทำครั้งแรกครั้งเดียว ---"]
[]
[null,"การตั้งค่าหน้ากระดาษ Windows10 (Video 1)"]
[null,"https://youtu.be/ZW7fdAc4pIw"]
[]
[null,"หากทำแล้วยัง Print ออกมาไม่ตรงให้ทำตาม Video ด้านล่างนี้"]
[null,"https://youtu.be/ZEhjHrWjmw"]
[]
[null,"ขั้นตอนการทำสลิป"]
[null,"1.ติดตั้ง driver printer"]
[null,"2.เพิ่มขนาดกระดาษขึ้นมาใหม่ ตั้งค่าหน้ากระดาษ 8x5.5 นิ้ว (ดู Video1)"]
[null,"3.ใส่แบบฟอร์มสลิปเงินเดือนเข้ากับเครื่องพิมพ์"]
[null,"4.เปิดโปรแกรมพิมพ์สลิป(Excel) เลือกขนาดกระดาษที่เพิ่มขึ้นมา"]
[null,"5.สั่งพิมพ์สลิปเงินเดือน "]

{"sheet":"1","index":5,"n_rows":12,"n_cols":58,"rows_kept":12,"cut":false,"hidden":false,"merged":[]}
["ลำดับที่","รหัสพนักงาน","คำนำหน้า","ชื่อ","นามสกุล","แผนก","ตำแหน่ง","เลขที่บัญชี","วันที่เข้างาน",null,null,"ค่าแรง","จำนวนวันทำงาน","เงินเดือน/ค่าแรง","OT 1 เท่า (ชม.)",null,"OT 1.5 เท่า (ชม.)",null,"OT 2.0 เท่า (ชม.)",null,"OT 3.0 เท่า (ชม.)",null,"รวม OT","คอมมิสชั่น","เบี้ยขยัน","โบนัส","อื่นๆ ","เปลี่ยนได้2","เปลี่ยนได้3","เปลี่ยนได้4",null,null,"รวมรายได้","ประกันสังคม","ภาษี","กองทุนสำรองเลี้ยงชีพ","หักกองทุน %","กู้ยืม","สาย","อื่นๆ","xx","xxx","xxxx",null,"รวมรายการหัก(ไม่รวมภาษี)","รวมรายการหัก","เงินได้สุทธิ","เงินได้สุทธิ(หลังหักภาษี)","ลดหย่อนรวมสุทธิ","ลดหย่อนรวม","ค่าใช้จ่ายเหมา 50%","หักค่าลดหย่อนส่วนตัว","ประกันสังคม","ลดหย่อนพ่อแม่","ลดหย่อนลูก","ค่าเบี้ยประกัน","ดอกเบี้ยบ้าน","เพิ่มได้จนถึง bo"]
[1,63001,"นาง","ณเดชน์","วงษ์พันธ์","ธุรการ 总务","เจ้าหน้าที่อาวุโส","0652792944",43734,null,null,null,null,10000,2,{"$f":"(Table421032323[[#This Row],[Column58]]/30/8)*(Table421032323[[#This Row],[Column54]]*1)","v":83.333333333333329},1,{"$f":"(Table421032323[[#This Row],[Column58]]/30/8)*(Table421032323[[#This Row],[Column11]]*1.5)","v":62.5},1,{"$f":"(Table421032323[[#This Row],[Column58]]/30/8)*(Table421032323[[#This Row],[Column56]]*2)","v":83.333333333333329},1,{"$f":"(Table421032323[[#This Row],[Column58]]/30/8)*(Table421032323[[#This Row],[Column12]]*3)","v":125},{"$f":"Table421032323[[#This Row],[Column10]]+Table421032323[[#This Row],[Column55]]+Table421032323[[#This Row],[Column57]]+Table421032323[[#This Row],[Column13]]","v":354.16666666666663},200,300,400,null,null,null,null,null,null,{"$f":"Table421032323[[#This Row],[Column58]]+Table421032323[[#This Row],[Column14]]+Table421032323[[#This Row],[Column15]]+Table421032323[[#This Row],[Column16]]+Table421032323[[#This Row],[Column17]]+Table421032323[[#This Row],[Column19]]+Table421032323[[#This Row],[Column62]]+Table421032323[[#This Row],[Column63]]+Table421032323[[#This Row],[Column64]]+Table421032323[[#This Row],[Column65]]+Table421032323[[#This Row],[Column66]]","v":11254.166666666666},{"$f":"ROUND(IF(N2>15000,750,N2*5%),0)","v":500},{"$f":"TaxCal(AU2,AW2)","v":0},null,null,100,50,10,20,30,40,null,{"$f":"Table421032323[[#This Row],[Column20]]+Table421032323[[#This Row],[Column24]]+Table421032323[[#This Row],[Column25]]+Table421032323[[#This Row],[Column26]]+Table421032323[[#This Row],[Column27]]+Table421032323[[#This Row],[Column28]]+Table421032323[[#This Row],[Column29]]+Table421032323[[#This Row],[Column30]]","v":750},{"$f":"Table421032323[[#This Row],[Column31]]+Table421032323[[#This Row],[Column21]]","v":750},{"$f":"Table421032323[[#This Row],[Column67]]-Table421032323[[#This Row],[Column31]]","v":10504.166666666666},{"$f":"Table421032323[[#This Row],[Column70]]-Table421032323[[#This Row],[Column21]]","v":10504.166666666666},{"$f":"IF((AG2*12)-(SUM(AY2:BF2))<=0,0,(AG2*12)-(SUM(AY2:BF2)))","v":325},{"$f":"SUM(AY2:BF2)","v":134725},{"$f":"IF(((AG2*12)/2)>100000,100000,(AG2*12)/2)","v":67525},60000,7200]
[2,63002,"นางสาว","รัชฎาภรณ์","บุญญาศิรินันท์","จัดซื้อ 采购","ผู้จัดการแผนก","0652798721",43745,null,null,null,null,15000,null,{"$f":"(Table421032323[[#This Row],[Column58]]/30/8)*(Table421032323[[#This Row],[Column54]]*1)","v":0},null,{"$f":"(Table421032323[[#This Row],[Column58]]/30/8)*(Table421032323[[#This Row],[Column11]]*1.5)","v":0},null,{"$f":"(Table421032323[[#This Row],[Column58]]/30/8)*(Table421032323[[#This Row],[Column56]]*2)","v":0},null,{"$f":"(Table421032323[[#This Row],[Column58]]/30/8)*(Table421032323[[#This Row],[Column12]]*3)","v":0},{"$f":"Table421032323[[#This Row],[Column10]]+Table421032323[[#This Row],[Column55]]+Table421032323[[#This Row],[Column57]]+Table421032323[[#This Row],[Column13]]","v":0},0,0,4000,null,null,null,null,null,null,{"$f":"Table421032323[[#This Row],[Column58]]+Table421032323[[#This Row],[Column14]]+Table421032323[[#This Row],[Column15]]+Table421032323[[#This Row],[Column16]]+Table421032323[[#This Row],[Column17]]+Table421032323[[#This Row],[Column19]]+Table421032323[[#This Row],[Column62]]+Table421032323[[#This Row],[Column63]]+Table421032323[[#This Row],[Column64]]+Table421032323[[#This Row],[Column65]]+Table421032323[[#This Row],[Column66]]","v":19000},750,0,null,null,null,null,null,null,null,null,null,{"$f":"Table421032323[[#This Row],[Column20]]+Table421032323[[#This Row],[Column24]]+Table421032323[[#This Row],[Column25]]+Table421032323[[#This Row],[Column26]]+Table421032323[[#This Row],[Column27]]+Table421032323[[#This Row],[Column28]]+Table421032323[[#This Row],[Column29]]+Table421032323[[#This Row],[Column30]]","v":750},{"$f":"Table421032323[[#This Row],[Column31]]+Table421032323[[#This Row],[Column21]]","v":750},{"$f":"Table421032323[[#This Row],[Column67]]-Table421032323[[#This Row],[Column31]]","v":18250},{"$f":"Table421032323[[#This Row],[Column70]]-Table421032323[[#This Row],[Column21]]","v":18250},60800,167200,100000,60000,7200]
[3,63003,"นางสาว","ผุสดี","ปัทมภาสพงษ์","บุคคล 人事","ผู้จัดการแผนก","0652745806",43773,null,null,null,null,{"$f":"Table421032323[[#This Row],[Column60]]*Table421032323[[#This Row],[Column9]]","v":0},null,{"$f":"(Table421032323[[#This Row],[Column58]]/30/8)*(Table421032323[[#This Row],[Column54]]*1)","v":0},null,{"$f":"(Table421032323[[#This Row],[Column58]]/30/8)*(Table421032323[[#This Row],[Column11]]*1.5)","v":0},null,{"$f":"(Table421032323[[#This Row],[Column58]]/30/8)*(Table421032323[[#This Row],[Column56]]*2)","v":0},null,{"$f":"(Table421032323[[#This Row],[Column58]]/30/8)*(Table421032323[[#This Row],[Column12]]*3)","v":0},{"$f":"Table421032323[[#This Row],[Column10]]+Table421032323[[#This Row],[Column55]]+Table421032323[[#This Row],[Column57]]+Table421032323[[#This Row],[Column13]]","v":0},0,0,null,null,null,null,null,null,null,{"$f":"Table421032323[[#This Row],[Column58]]+Table421032323[[#This Row],[Column14]]+Table421032323[[#This Row],[Column15]]+Table421032323[[#This Row],[Column16]]+Table421032323[[#This Row],[Column17]]+Table421032323[[#This Row],[Column19]]+Table421032323[[#This Row],[Column62]]+Table421032323[[#This Row],[Column63]]+Table421032323[[#This Row],[Column64]]+Table421032323[[#This Row],[Column65]]+Table421032323[[#This Row],[Column66]]","v":0},0,0,null,null,200,100,3,4,5,6,null,{"$f":"Table421032323[[#This Row],[Column20]]+Table421032323[[#This Row],[Column24]]+Table421032323[[#This Row],[Column25]]+Table421032323[[#This Row],[Column26]]+Table421032323[[#This Row],[Column27]]+Table421032323[[#This Row],[Column28]]+Table421032323[[#This Row],[Column29]]+Table421032323[[#This Row],[Column30]]","v":318},{"$f":"Table421032323[[#This Row],[Column31]]+Table421032323[[#This Row],[Column21]]","v":318},{"$f":"Table421032323[[#This Row],[Column67]]-Table421032323[[#This Row],[Column31]]","v":-318},{"$f":"Table421032323[[#This Row],[Column70]]-Table421032323[[#This Row],[Column21]]","v":-318},0,67200,0,60000,7200]
[4,63004,"นาย","กฤษฎา","ธาราภูมิ","ธุรการ 总务","พนักงานขับรถ 司机","0658810863",43773,null,null,null,null,{"$f":"Table421032323[[#This Row],[Column60]]*Table421032323[[#This Row],[Column9]]","v":0},null,{"$f":"(Table421032323[[#This Row],[Column58]]/30/8)*(Table421032323[[#This Row],[Column54]]*1)","v":0},null,{"$f":"(Table421032323[[#This Row],[Column58]]/30/8)*(Table421032323[[#This Row],[Column11]]*1.5)","v":0},null,{"$f":"(Table421032323[[#This Row],[Column58]]/30/8)*(Table421032323[[#This Row],[Column56]]*2)","v":0},null,{"$f":"(Table421032323[[#This Row],[Column58]]/30/8)*(Table421032323[[#This Row],[Column12]]*3)","v":0},{"$f":"Table421032323[[#This Row],[Column10]]+Table421032323[[#This Row],[Column55]]+Table421032323[[#This Row],[Column57]]+Table421032323[[#This Row],[Column13]]","v":0},200,300,400,null,null,null,null,null,null,{"$f":"Table421032323[[#This Row],[Column58]]+Table421032323[[#This Row],[Column14]]+Table421032323[[#This Row],[Column15]]+Table421032323[[#This Row],[Column16]]+Table421032323[[#This Row],[Column17]]+Table421032323[[#This Row],[Column19]]+Table421032323[[#This Row],[Column62]]+Table421032323[[#This Row],[Column63]]+Table421032323[[#This Row],[Column64]]+Table421032323[[#This Row],[Column65]]+Table421032323[[#This Row],[Column66]]","v":900},0,0,null,null,null,null,null,null,null,null,null,{"$f":"Table421032323[[#This Row],[Column20]]+Table421032323[[#This Row],[Column24]]+Table421032323[[#This Row],[Column25]]+Table421032323[[#This Row],[Column26]]+Table421032323[[#This Row],[Column27]]+Table421032323[[#This Row],[Column28]]+Table421032323[[#This Row],[Column29]]+Table421032323[[#This Row],[Column30]]","v":0},{"$f":"Table421032323[[#This Row],[Column31]]+Table421032323[[#This Row],[Column21]]","v":0},{"$f":"Table421032323[[#This Row],[Column67]]-Table421032323[[#This Row],[Column31]]","v":900},{"$f":"Table421032323[[#This Row],[Column70]]-Table421032323[[#This Row],[Column21]]","v":900},0,72600,5400,60000,7200]
[5,63005,"นาง","ปัทมาภรณ์ ","แก้วโผงเผง","ธุรการ 总务","แม่บ้าน","0652792111",43774,null,null,null,null,{"$f":"Table421032323[[#This Row],[Column60]]*Table421032323[[#This Row],[Column9]]","v":0},null,{"$f":"(Table421032323[[#This Row],[Column58]]/30/8)*(Table421032323[[#This Row],[Column54]]*1)","v":0},null,{"$f":"(Table421032323[[#This Row],[Column58]]/30/8)*(Table421032323[[#This Row],[Column11]]*1.5)","v":0},null,{"$f":"(Table421032323[[#This Row],[Column58]]/30/8)*(Table421032323[[#This Row],[Column56]]*2)","v":0},null,{"$f":"(Table421032323[[#This Row],[Column58]]/30/8)*(Table421032323[[#This Row],[Column12]]*3)","v":0},{"$f":"Table421032323[[#This Row],[Column10]]+Table421032323[[#This Row],[Column55]]+Table421032323[[#This Row],[Column57]]+Table421032323[[#This Row],[Column13]]","v":0},700,0,null,null,null,null,null,null,null,{"$f":"Table421032323[[#This Row],[Column58]]+Table421032323[[#This Row],[Column14]]+Table421032323[[#This Row],[Column15]]+Table421032323[[#This Row],[Column16]]+Table421032323[[#This Row],[Column17]]+Table421032323[[#This Row],[Column19]]+Table421032323[[#This Row],[Column62]]+Table421032323[[#This Row],[Column63]]+Table421032323[[#This Row],[Column64]]+Table421032323[[#This Row],[Column65]]+Table421032323[[#This Row],[Column66]]","v":700},0,0,null,null,null,300,null,null,null,null,null,{"$f":"Table421032323[[#This Row],[Column20]]+Table421032323[[#This Row],[Column24]]+Table421032323[[#This Row],[Column25]]+Table421032323[[#This Row],[Column26]]+Table421032323[[#This Row],[Column27]]+Table421032323[[#This Row],[Column28]]+Table421032323[[#This Row],[Column29]]+Table421032323[[#This Row],[Column30]]","v":300},{"$f":"Table421032323[[#This Row],[Column31]]+Table421032323[[#This Row],[Column21]]","v":300},{"$f":"Table421032323[[#This Row],[Column67]]-Table421032323[[#This Row],[Column31]]","v":400},{"$f":"Table421032323[[#This Row],[Column70]]-Table421032323[[#This Row],[Column21]]","v":400},0,71400,4200,60000,7200]
[6,63006,"นาง","อรอนงค์","ปานดี","ธุรการ 总务","แม่บ้าน","0652774709",43774,null,null,null,null,{"$f":"Table421032323[[#This Row],[Column60]]*Table421032323[[#This Row],[Column9]]","v":0},null,{"$f":"(Table421032323[[#This Row],[Column58]]/30/8)*(Table421032323[[#This Row],[Column54]]*1)","v":0},null,{"$f":"(Table421032323[[#This Row],[Column58]]/30/8)*(Table421032323[[#This Row],[Column11]]*1.5)","v":0},null,{"$f":"(Table421032323[[#This Row],[Column58]]/30/8)*(Table421032323[[#This Row],[Column56]]*2)","v":0},null,{"$f":"(Table421032323[[#This Row],[Column58]]/30/8)*(Table421032323[[#This Row],[Column12]]*3)","v":0},{"$f":"Table421032323[[#This Row],[Column10]]+Table421032323[[#This Row],[Column55]]+Table421032323[[#This Row],[Column57]]+Table421032323[[#This Row],[Column13]]","v":0},900,0,null,null,null,null,null,null,null,{"$f":"Table421032323[[#This Row],[Column58]]+Table421032323[[#This Row],[Column14]]+Table421032323[[#This Row],[Column15]]+Table421032323[[#This Row],[Column16]]+Table421032323[[#This Row],[Column17]]+Table421032323[[#This Row],[Column19]]+Table421032323[[#This Row],[Column62]]+Table421032323[[#This Row],[Column63]]+Table421032323[[#This Row],[Column64]]+Table421032323[[#This Row],[Column65]]+Table421032323[[#This Row],[Column66]]","v":900},0,0,null,null,null,300,null,null,null,null,null,{"$f":"Table421032323[[#This Row],[Column20]]+Table421032323[[#This Row],[Column24]]+Table421032323[[#This Row],[Column25]]+Table421032323[[#This Row],[Column26]]+Table421032323[[#This Row],[Column27]]+Table421032323[[#This Row],[Column28]]+Table421032323[[#This Row],[Column29]]+Table421032323[[#This Row],[Column30]]","v":300},{"$f":"Table421032323[[#This Row],[Column31]]+Table421032323[[#This Row],[Column21]]","v":300},{"$f":"Table421032323[[#This Row],[Column67]]-Table421032323[[#This Row],[Column31]]","v":600},{"$f":"Table421032323[[#This Row],[Column70]]-Table421032323[[#This Row],[Column21]]","v":600},0,72600,5400,60000,7200]
[7,63007,"นาย","สุพล","แซ่เหมา","พ่นสี 1 油漆","ล่ามจีน","0652750303",43778,null,null,null,null,{"$f":"Table421032323[[#This Row],[Column60]]*Table421032323[[#This Row],[Column9]]","v":0},null,{"$f":"(Table421032323[[#This Row],[Column58]]/30/8)*(Table421032323[[#This Row],[Column54]]*1)","v":0},null,{"$f":"(Table421032323[[#This Row],[Column58]]/30/8)*(Table421032323[[#This Row],[Column11]]*1.5)","v":0},null,{"$f":"(Table421032323[[#This Row],[Column58]]/30/8)*(Table421032323[[#This Row],[Column56]]*2)","v":0},null,{"$f":"(Table421032323[[#This Row],[Column58]]/30/8)*(Table421032323[[#This Row],[Column12]]*3)","v":0},{"$f":"Table421032323[[#This Row],[Column10]]+Table421032323[[#This Row],[Column55]]+Table421032323[[#This Row],[Column57]]+Table421032323[[#This Row],[Column13]]","v":0},0,150,null,null,null,null,null,null,null,{"$f":"Table421032323[[#This Row],[Column58]]+Table421032323[[#This Row],[Column14]]+Table421032323[[#This Row],[Column15]]+Table421032323[[#This Row],[Column16]]+Table421032323[[#This Row],[Column17]]+Table421032323[[#This Row],[Column19]]+Table421032323[[#This Row],[Column62]]+Table421032323[[#This Row],[Column63]]+Table421032323[[#This Row],[Column64]]+Table421032323[[#This Row],[Column65]]+Table421032323[[#This Row],[Column66]]","v":150},0,0,null,null,null,null,null,null,null,null,null,{"$f":"Table421032323[[#This Row],[Column20]]+Table421032323[[#This Row],[Column24]]+Table421032323[[#This Row],[Column25]]+Table421032323[[#This Row],[Column26]]+Table421032323[[#This Row],[Column27]]+Table421032323[[#This Row],[Column28]]+Table421032323[[#This Row],[Column29]]+Table421032323[[#This Row],[Column30]]","v":0},{"$f":"Table421032323[[#This Row],[Column31]]+Table421032323[[#This Row],[Column21]]","v":0},{"$f":"Table421032323[[#This Row],[Column67]]-Table421032323[[#This Row],[Column31]]","v":150},{"$f":"Table421032323[[#This Row],[Column70]]-Table421032323[[#This Row],[Column21]]","v":150},0,68100,900,60000,7200]
[8,63008,"นาย","ปิยะพงษ์","แปงวัน","ประกอบ CNC 柜体","พนักงาน","0263980581",43780,null,null,null,null,{"$f":"Table421032323[[#This Row],[Column60]]*Table421032323[[#This Row],[Column9]]","v":0},null,{"$f":"(Table421032323[[#This Row],[Column58]]/30/8)*(Table421032323[[#This Row],[Column54]]*1)","v":0},null,{"$f":"(Table421032323[[#This Row],[Column58]]/30/8)*(Table421032323[[#This Row],[Column11]]*1.5)","v":0},null,{"$f":"(Table421032323[[#This Row],[Column58]]/30/8)*(Table421032323[[#This Row],[Column56]]*2)","v":0},null,{"$f":"(Table421032323[[#This Row],[Column58]]/30/8)*(Table421032323[[#This Row],[Column12]]*3)","v":0},{"$f":"Table421032323[[#This Row],[Column10]]+Table421032323[[#This Row],[Column55]]+Table421032323[[#This Row],[Column57]]+Table421032323[[#This Row],[Column13]]","v":0},0,735,null,null,null,null,null,null,null,{"$f":"Table421032323[[#This Row],[Column58]]+Table421032323[[#This Row],[Column14]]+Table421032323[[#This Row],[Column15]]+Table421032323[[#This Row],[Column16]]+Table421032323[[#This Row],[Column17]]+Table421032323[[#This Row],[Column19]]+Table421032323[[#This Row],[Column62]]+Table421032323[[#This Row],[Column63]]+Table421032323[[#This Row],[Column64]]+Table421032323[[#This Row],[Column65]]+Table421032323[[#This Row],[Column66]]","v":735},0,0,null,null,null,15,null,null,null,null,null,{"$f":"Table421032323[[#This Row],[Column20]]+Table421032323[[#This Row],[Column24]]+Table421032323[[#This Row],[Column25]]+Table421032323[[#This Row],[Column26]]+Table421032323[[#This Row],[Column27]]+Table421032323[[#This Row],[Column28]]+Table421032323[[#This Row],[Column29]]+Table421032323[[#This Row],[Column30]]","v":15},{"$f":"Table421032323[[#This Row],[Column31]]+Table421032323[[#This Row],[Column21]]","v":15},{"$f":"Table421032323[[#This Row],[Column67]]-Table421032323[[#This Row],[Column31]]","v":720},{"$f":"Table421032323[[#This Row],[Column70]]-Table421032323[[#This Row],[Column21]]","v":720},0,71610,4410,60000,7200]
[9,63009,"นาย","อภิชาต","นพพลกกรัง","ประกอบ CNC 柜体","ช่างคุมเครื่อง","0652727980",43787,null,null,null,null,{"$f":"Table421032323[[#This Row],[Column60]]*Table421032323[[#This Row],[Column9]]","v":0},null,{"$f":"(Table421032323[[#This Row],[Column58]]/30/8)*(Table421032323[[#This Row],[Column54]]*1)","v":0},null,{"$f":"(Table421032323[[#This Row],[Column58]]/30/8)*(Table421032323[[#This Row],[Column11]]*1.5)","v":0},null,{"$f":"(Table421032323[[#This Row],[Column58]]/30/8)*(Table421032323[[#This Row],[Column56]]*2)","v":0},null,{"$f":"(Table421032323[[#This Row],[Column58]]/30/8)*(Table421032323[[#This Row],[Column12]]*3)","v":0},{"$f":"Table421032323[[#This Row],[Column10]]+Table421032323[[#This Row],[Column55]]+Table421032323[[#This Row],[Column57]]+Table421032323[[#This Row],[Column13]]","v":0},600,2700,631.25,null,null,null,null,null,null,{"$f":"Table421032323[[#This Row],[Column58]]+Table421032323[[#This Row],[Column14]]+Table421032323[[#This Row],[Column15]]+Table421032323[[#This Row],[Column16]]+Table421032323[[#This Row],[Column17]]+Table421032323[[#This Row],[Column19]]+Table421032323[[#This Row],[Column62]]+Table421032323[[#This Row],[Column63]]+Table421032323[[#This Row],[Column64]]+Table421032323[[#This Row],[Column65]]+Table421032323[[#This Row],[Column66]]","v":3931.25},0,0,null,null,null,null,null,null,null,null,null,{"$f":"Table421032323[[#This Row],[Column20]]+Table421032323[[#This Row],[Column24]]+Table421032323[[#This Row],[Column25]]+Table421032323[[#This Row],[Column26]]+Table421032323[[#This Row],[Column27]]+Table421032323[[#This Row],[Column28]]+Table421032323[[#This Row],[Column29]]+Table421032323[[#This Row],[Column30]]","v":0},{"$f":"Table421032323[[#This Row],[Column31]]+Table421032323[[#This Row],[Column21]]","v":0},{"$f":"Table421032323[[#This Row],[Column67]]-Table421032323[[#This Row],[Column31]]","v":3931.25},{"$f":"Table421032323[[#This Row],[Column70]]-Table421032323[[#This Row],[Column21]]","v":3931.25},0,90787.5,23587.5,60000,7200]
[10,63010,"นาย","ทวิวัฒน์","หมื่นแล","ประกอบCNC  柜体","ล่ามจีน","0653262442",43788,null,null,null,null,{"$f":"Table421032323[[#This Row],[Column60]]*Table421032323[[#This Row],[Column9]]","v":0},null,{"$f":"(Table421032323[[#This Row],[Column58]]/30/8)*(Table421032323[[#This Row],[Column54]]*1)","v":0},null,{"$f":"(Table421032323[[#This Row],[Column58]]/30/8)*(Table421032323[[#This Row],[Column11]]*1.5)","v":0},null,{"$f":"(Table421032323[[#This Row],[Column58]]/30/8)*(Table421032323[[#This Row],[Column56]]*2)","v":0},null,{"$f":"(Table421032323[[#This Row],[Column58]]/30/8)*(Table421032323[[#This Row],[Column12]]*3)","v":0},{"$f":"Table421032323[[#This Row],[Column10]]+Table421032323[[#This Row],[Column55]]+Table421032323[[#This Row],[Column57]]+Table421032323[[#This Row],[Column13]]","v":0},0,0,null,null,null,null,null,null,null,{"$f":"Table421032323[[#This Row],[Column58]]+Table421032323[[#This Row],[Column14]]+Table421032323[[#This Row],[Column15]]+Table421032323[[#This Row],[Column16]]+Table421032323[[#This Row],[Column17]]+Table421032323[[#This Row],[Column19]]+Table421032323[[#This Row],[Column62]]+Table421032323[[#This Row],[Column63]]+Table421032323[[#This Row],[Column64]]+Table421032323[[#This Row],[Column65]]+Table421032323[[#This Row],[Column66]]","v":0},0,0,null,null,null,null,null,null,null,null,null,{"$f":"Table421032323[[#This Row],[Column20]]+Table421032323[[#This Row],[Column24]]+Table421032323[[#This Row],[Column25]]+Table421032323[[#This Row],[Column26]]+Table421032323[[#This Row],[Column27]]+Table421032323[[#This Row],[Column28]]+Table421032323[[#This Row],[Column29]]+Table421032323[[#This Row],[Column30]]","v":0},{"$f":"Table421032323[[#This Row],[Column31]]+Table421032323[[#This Row],[Column21]]","v":0},{"$f":"Table421032323[[#This Row],[Column67]]-Table421032323[[#This Row],[Column31]]","v":0},{"$f":"Table421032323[[#This Row],[Column70]]-Table421032323[[#This Row],[Column21]]","v":0},0,67200,0,60000,7200]
[11,null,null,null,null,null,null,null,null,null,null,null,null,{"$f":"Table421032323[[#This Row],[Column60]]*Table421032323[[#This Row],[Column9]]","v":0},null,{"$f":"(Table421032323[[#This Row],[Column58]]/30/8)*(Table421032323[[#This Row],[Column54]]*1)","v":0},null,{"$f":"(Table421032323[[#This Row],[Column58]]/30/8)*(Table421032323[[#This Row],[Column11]]*1.5)","v":0},null,{"$f":"(Table421032323[[#This Row],[Column58]]/30/8)*(Table421032323[[#This Row],[Column56]]*2)","v":0},null,{"$f":"(Table421032323[[#This Row],[Column58]]/30/8)*(Table421032323[[#This Row],[Column12]]*3)","v":0},{"$f":"Table421032323[[#This Row],[Column10]]+Table421032323[[#This Row],[Column55]]+Table421032323[[#This Row],[Column57]]+Table421032323[[#This Row],[Column13]]","v":0},null,{"$f":"Table421032323[[#This Row],[Column58]]*Table421032323[[#This Row],[Column54]]","v":0},null,null,null,null,null,null,null,{"$f":"Table421032323[[#This Row],[Column58]]+Table421032323[[#This Row],[Column14]]+Table421032323[[#This Row],[Column15]]+Table421032323[[#This Row],[Column16]]+Table421032323[[#This Row],[Column17]]+Table421032323[[#This Row],[Column19]]+Table421032323[[#This Row],[Column62]]+Table421032323[[#This Row],[Column63]]+Table421032323[[#This Row],[Column64]]+Table421032323[[#This Row],[Column65]]+Table421032323[[#This Row],[Column66]]","v":0},0,0,null,null,null,null,null,null,null,null,null,{"$f":"Table421032323[[#This Row],[Column20]]+Table421032323[[#This Row],[Column24]]+Table421032323[[#This Row],[Column25]]+Table421032323[[#This Row],[Column26]]+Table421032323[[#This Row],[Column27]]+Table421032323[[#This Row],[Column28]]+Table421032323[[#This Row],[Column29]]+Table421032323[[#This Row],[Column30]]","v":0},{"$f":"Table421032323[[#This Row],[Column31]]+Table421032323[[#This Row],[Column21]]","v":0},{"$f":"Table421032323[[#This Row],[Column67]]-Table421032323[[#This Row],[Column31]]","v":0},{"$f":"Table421032323[[#This Row],[Column70]]-Table421032323[[#This Row],[Column21]]","v":0},0,0,0]

{"sheet":"2","index":6,"n_rows":0,"n_cols":0,"rows_kept":0,"cut":false,"hidden":false,"merged":[]}

{"sheet":"3","index":7,"n_rows":0,"n_cols":0,"rows_kept":0,"cut":false,"hidden":false,"merged":[]}

{"sheet":"4","index":8,"n_rows":0,"n_cols":0,"rows_kept":0,"cut":false,"hidden":false,"merged":[]}

{"sheet":"5","index":9,"n_rows":0,"n_cols":0,"rows_kept":0,"cut":false,"hidden":false,"merged":[]}

{"sheet":"6","index":10,"n_rows":0,"n_cols":0,"rows_kept":0,"cut":false,"hidden":false,"merged":[]}

{"sheet":"7","index":11,"n_rows":0,"n_cols":0,"rows_kept":0,"cut":false,"hidden":false,"merged":[]}

{"sheet":"8","index":12,"n_rows":0,"n_cols":0,"rows_kept":0,"cut":false,"hidden":false,"merged":[]}

{"sheet":"9","index":13,"n_rows":0,"n_cols":0,"rows_kept":0,"cut":false,"hidden":false,"merged":[]}

{"sheet":"10","index":14,"n_rows":0,"n_cols":0,"rows_kept":0,"cut":false,"hidden":false,"merged":[]}

{"sheet":"11","index":15,"n_rows":0,"n_cols":0,"rows_kept":0,"cut":false,"hidden":false,"merged":[]}

{"sheet":"12","index":16,"n_rows":0,"n_cols":0,"rows_kept":0,"cut":false,"hidden":false,"merged":[]}

{"sheet":"13","index":17,"n_rows":0,"n_cols":0,"rows_kept":0,"cut":false,"hidden":false,"merged":[]}

{"sheet":"14","index":18,"n_rows":0,"n_cols":0,"rows_kept":0,"cut":false,"hidden":false,"merged":[]}

{"sheet":"15","index":19,"n_rows":0,"n_cols":0,"rows_kept":0,"cut":false,"hidden":false,"merged":[]}

{"sheet":"16","index":20,"n_rows":0,"n_cols":0,"rows_kept":0,"cut":false,"hidden":false,"merged":[]}

{"sheet":"17","index":21,"n_rows":0,"n_cols":0,"rows_kept":0,"cut":false,"hidden":false,"merged":[]}

{"sheet":"18","index":22,"n_rows":0,"n_cols":0,"rows_kept":0,"cut":false,"hidden":false,"merged":[]}

{"sheet":"19","index":23,"n_rows":0,"n_cols":0,"rows_kept":0,"cut":false,"hidden":false,"merged":[]}

{"sheet":"20","index":24,"n_rows":0,"n_cols":0,"rows_kept":0,"cut":false,"hidden":false,"merged":[]}

{"sheet":"21","index":25,"n_rows":0,"n_cols":0,"rows_kept":0,"cut":false,"hidden":false,"merged":[]}

{"sheet":"22","index":26,"n_rows":0,"n_cols":0,"rows_kept":0,"cut":false,"hidden":false,"merged":[]}

{"sheet":"23","index":27,"n_rows":0,"n_cols":0,"rows_kept":0,"cut":false,"hidden":false,"merged":[]}

{"sheet":"24","index":28,"n_rows":0,"n_cols":0,"rows_kept":0,"cut":false,"hidden":false,"merged":[]}